BEGIN:VCALENDAR
VERSION:2.0
PRODID:-//KindWorks - ECPv6.15.20//NONSGML v1.0//EN
CALSCALE:GREGORIAN
METHOD:PUBLISH
X-ORIGINAL-URL:https://dokindworks.org
X-WR-CALDESC:Events for KindWorks
REFRESH-INTERVAL;VALUE=DURATION:PT1H
X-Robots-Tag:noindex
X-PUBLISHED-TTL:PT1H
BEGIN:VTIMEZONE
TZID:America/New_York
BEGIN:DAYLIGHT
TZOFFSETFROM:-0500
TZOFFSETTO:-0400
TZNAME:EDT
DTSTART:20240310T070000
END:DAYLIGHT
BEGIN:STANDARD
TZOFFSETFROM:-0400
TZOFFSETTO:-0500
TZNAME:EST
DTSTART:20241103T060000
END:STANDARD
BEGIN:DAYLIGHT
TZOFFSETFROM:-0500
TZOFFSETTO:-0400
TZNAME:EDT
DTSTART:20250309T070000
END:DAYLIGHT
BEGIN:STANDARD
TZOFFSETFROM:-0400
TZOFFSETTO:-0500
TZNAME:EST
DTSTART:20251102T060000
END:STANDARD
BEGIN:DAYLIGHT
TZOFFSETFROM:-0500
TZOFFSETTO:-0400
TZNAME:EDT
DTSTART:20260308T070000
END:DAYLIGHT
BEGIN:STANDARD
TZOFFSETFROM:-0400
TZOFFSETTO:-0500
TZNAME:EST
DTSTART:20261101T060000
END:STANDARD
END:VTIMEZONE
BEGIN:VEVENT
DTSTART;VALUE=DATE:20251121
DTEND;VALUE=DATE:20251123
DTSTAMP:20260424T020519
CREATED:20251105T013528Z
LAST-MODIFIED:20251105T150643Z
UID:10005156-1763683200-1763855999@dokindworks.org
SUMMARY:Special Thanksgiving Event - Bake Banana Breads for Unhoused Individuals
DESCRIPTION:Join us this holiday season as we prepare delicious and healthy quick breads (banana\, zucchini\, pumpkin or others) for local unhoused individuals. \nWhen you sign up below\, you are committing to deliver four individual servings of a casserole or banana bread to Bethesda (exact location provided after signup) between 10:00a m-4:00 pm on Friday (November 21st) or Saturday (November 22nd). You can sign up for additional slots to bring more\, but students seeking SSL hours should note MCPS’s daily limit in the guidelines below. \nIf you need of a recipe\, we recommend this one for mini loaves of banana bread. Feel free to customize your breads with chocolate chips\, raisins\, etc. Whatever you make\, be sure to note any allergens in your ingredients on the label (details below). \nHealth and Safety Information\nIn order to protect the quality of your donation and our program\, we ask that volunteers conscientiously observe the following guidelines: \n\nStart with clean hands and wash again frequently as needed throughout the cooking process.\nStart with clean kitchen surfaces and utensils (antibacterial wipes do a great job).\nKeep longer hair tied back.\nFollow other common sense procedures\, such as never returning a tasting spoon to the pot!\n\nThank you for maintaining a high cleanliness standard for your donations! \nHow to Donate Your Meal Servings\nIndividually package up the number of servings you signed up to provide in small food containers with tight-fitting lids or ziplock bags.  \n\n\n\n\n\n\n\nLabel each container and freeze. (Use this template to print six-per-page KindWorks labels off your own printer.) Labels should include \n\ndate prepared\nyour first name and last initial\ntype of bread\nany relevant allergy or food preference info\n\n\n\n\nDeliver your frozen breads between 10:00a m-4:00 pm or Friday (November 21st) or Saturday (November 22nd). \nStudent Service Learning\nStudents who sign up in advance\, participate in this project\, and submit a completed KindWorks SSL Request Form can earn SSL hours at the following rate: \n\n4 mini-loaves of quick bread = 2 SSL hours\n\nNote: MCPS allows no more than 8 SSL hours in a 24-hour period. \nSafety Reminder\nAs with all KindWorks projects\, when you register you do so with the understanding that volunteering may involve physical activity\, the handling of sharp objects and cooking apparatus\, the lifting of heavy objects\, contact with unidentified and unfamiliar persons\, and will require the exercise of reasonable care to avoid injury and/or damage\, and agree to assume any and all risks of personal injury or property damage. \nLearn more about this KindWorks program \n\nSpecial Thanksgiving Banana Bread Donations\n\n\n\n    \n    \n                    \n                Date:\n                November 22\, 2025             \n        \n\n\n    Sign up below...\n\n                        \n                Select Task(s)WhatName\n                Select Task(s)WhatName                make/deliver 4 frozen mini-loaves of banana bread#1: Wyatt P.#2: Wyatt P.#3: Wyatt P.#4: Wyatt P.#5: Victor P.#6: Victor P.#7: Zayd A.#8: Zayd A.#9: Zayd A.#10: Zayd A.#11: Parvathi G.#12: Parvathi G.#13: Parvathi G.#14: Penda T.#15: Fatoumata R T.#16: Simone S.#17: Simone S.#18: Vivian S.#19: Karen K.#20: Addison F.#21: Addison F.#22: Karli D.#23: Lisa S.#24: Sophia B.#25: Nora L.#26: Nora L.#27: Clara L.#28: Clara L.#29: Clara L.#30: Clara L.#31: Langston M.#32: Langston M.#33: Langston M.#34: Langston M.#35: Dhruv P.#36: Aarush E.#37: Aarush E.#38: gabriela o.#39: Dimitris B.#40: Dimitris B.#41: Kian K.#42: Yasmin E.#43: Mekhi S.#44: Mekhi S.#45: Mekhi S.#46: Mekhi S.#47: Jose B.#48: (empty) - sign-ups closed#49: (empty) - sign-ups closed#50: (empty) - sign-ups closed
URL:https://dokindworks.org/project/thanksgiving-bake-banana-breads/
LOCATION:Bethesda (exact location provided after signup)
CATEGORIES:Baking for Community,Cooking,Shelter Support
ATTACH;FMTTYPE=image/jpeg:https://dokindworks.org/wp-content/uploads/2025/11/david-trinks-KnF1FFD9-iw-unsplash-scaled-e1762306469471.jpg
END:VEVENT
END:VCALENDAR