BEGIN:VCALENDAR
VERSION:2.0
PRODID:-//KindWorks - ECPv6.15.20//NONSGML v1.0//EN
CALSCALE:GREGORIAN
METHOD:PUBLISH
X-ORIGINAL-URL:https://dokindworks.org
X-WR-CALDESC:Events for KindWorks
REFRESH-INTERVAL;VALUE=DURATION:PT1H
X-Robots-Tag:noindex
X-PUBLISHED-TTL:PT1H
BEGIN:VTIMEZONE
TZID:America/New_York
BEGIN:DAYLIGHT
TZOFFSETFROM:-0500
TZOFFSETTO:-0400
TZNAME:EDT
DTSTART:20250309T070000
END:DAYLIGHT
BEGIN:STANDARD
TZOFFSETFROM:-0400
TZOFFSETTO:-0500
TZNAME:EST
DTSTART:20251102T060000
END:STANDARD
BEGIN:DAYLIGHT
TZOFFSETFROM:-0500
TZOFFSETTO:-0400
TZNAME:EDT
DTSTART:20260308T070000
END:DAYLIGHT
BEGIN:STANDARD
TZOFFSETFROM:-0400
TZOFFSETTO:-0500
TZNAME:EST
DTSTART:20261101T060000
END:STANDARD
BEGIN:DAYLIGHT
TZOFFSETFROM:-0500
TZOFFSETTO:-0400
TZNAME:EDT
DTSTART:20270314T070000
END:DAYLIGHT
BEGIN:STANDARD
TZOFFSETFROM:-0400
TZOFFSETTO:-0500
TZNAME:EST
DTSTART:20271107T060000
END:STANDARD
END:VTIMEZONE
BEGIN:VEVENT
DTSTART;TZID=America/New_York:20260201T170000
DTEND;TZID=America/New_York:20260201T180000
DTSTAMP:20260424T001754
CREATED:20260121T014929Z
LAST-MODIFIED:20260131T223046Z
UID:10005200-1769965200-1769968800@dokindworks.org
SUMMARY:KindSoup for Students - Make Butternut Squash & Cauliflower Soup to Share With Others
DESCRIPTION:Join us online for KindSoup for Students as we make a Butternut Squash & Cauliflower Soup (based on this recipe from Cookin Canuck). After completing your soup\, and sharing some with your family\, freeze and label the rest for donation\, then drop off at one of our participating food assistance providers. \nStudents can earn 1 Student Service Learning Hour for every 2 quarts of frozen soup made with the group and delivered to others.  There is a maximum of 8 quarts that can qualify for any given day (4 hours). Most recipes render at least 6 quarts of soup\, 3 SSL hours.  \nIn order to receive SSL Hours \n\n take a picture during preparation and at delivery\nreport on where you shared your KindSoup \nComplete this SSL Form  \n\nConnect to Zoom event \n\n\nButternut Squash & Cauliflower Soup\n\n\n\n\n2 tablespoons olive oil\n3 medium onions chopped\n9 cloves garlic minced\n6 medium carrots cut into thin half-circles\n6 medium celery stalks thinly sliced\n2 1/4 teaspoon dried thyme\n1 teaspoon dried chili flakes\n1 1/2 teaspoon kosher salt\n4 1/2 tablespoon tomato paste\n3 3/4 pounds butternut squash about 4 cups\n2 1/4 pounds cauliflower about 3 cups\n9 cups vegetable broth\n4 1/2 cups water \n6 bay leaves\n3/4 cup minced Italian parsley\nSalt and pepper to taste\n\nSoup Instructions\n\n\n\nHeat olive oil in a large saucepan set over medium heat.\nAdd the onions and cook\, stirring occasionally\, until the onions just start to soften\, about 5 minutes.\nAdd the garlic\, carrots\, celery\, thyme\, dried chili flakes and salt. Cook until the vegetables are tender\, about 5 minutes.\nStir in the tomato paste and cook for one additional minute. \nStir in the butternut squash\, cauliflower\, vegetable broth\, water\, and bay leaves. Bring to a boil\, then reduce to a simmer\, partially cover the saucepan and cook until the squash and cauliflower are tender\, 15 to 20 minutes.\nLet the soup cool for 10 minutes\, then transfer 9 cups of the soup to a blender. Puree until almost smooth\, then stir the mixture back into the soup.\nStir in the parsley\, add salt and pepper (if desired) and serve.\n\n\n\n\nHealth and Safety Information\nIn order to protect the the quality of our KindSoup program\, we ask that volunteers conscientiously observe the following guidelines: \n\nStart with clean hands and wash again frequently as needed throughout the cooking process.\nStart with clean kitchen surfaces and utensils (antibacterial wipes do a great job).\nKeep longer hair tied back.\nFollow other common sense procedures\, such as never returning a tasting spoon to the pot!\n\nThank you for maintaining a high cleanliness standard for our KindSoup donations! \nSTUDENTS:  \nPrior to our Sunday\, February 1st cooking session:  \n\nConfirm your participation by signing up at the bottom of this page\nGather your ingredients\nMake sure that you have either a Soup Pot large enough to hold all of this soup\, or two smaller ones that will together hold it all\nHave 6 quart sized plastic soup containers with tight fitting lids (ask your neighbors if you could have theirs rather than them recycling them – they will be thrilled)\n\nHave all of your ingredients and cooking tools out and ready for when you sign on to our zoom at 5pm. (long hair should be tied back\, and everyone should start with freshly washed hands and gloves if you have them) You can start peeling and chopping your veggies while you wait for us to begin. \nEveryone’s first name should identify them on our zoom screen please. \nSee you soon!!\nHow to Donate Your KindSoup\nSeal containers with a tight lid and freeze. Label each container with: date prepared\, your first name and last initial\, “Butternut Squash & Cauliflower Soup” and any relevant food allergy info (which we will discuss on the call).  As soon as is convenient\, drop containers of frozen soup off at one of the following participating food assistance providers\, and can give one quart away also to a person or family that is in your heart and/or going through a difficult time.  You will report all KindSoups that you shared – with to the food assistance organization\, or to those people whom you know. \n\nRainbow Community Development Center 12120 Tech Road\, Silver Spring (this takes you to the rear parking lot and loading dock – there is usually a large RAINBOW truck parked here): Drop-off Monday-Friday 9am-2pm. NOTE: If you go during Rainbow’s food distributions on Tuesdays/Thursdays from 9am-noon\, you may see a long line of cars – you can drive past the cars to drop off your KindSoup. If you go at other times and the garage or back door is not open\, call or text Anna on her personal cell at 301-852-4184 (if she doesn’t answer\, leave a message and she should get back within a few minutes\, or try calling the Rainbow Pantry cellphone: 240-639-2293).   \nSo What Else 4924 Wyaconda Road\, Rockville\, 240-705-4345. (Look for the Dogtopia. Drive straight past Doptopia to get to our parking lot. The entrance will be on the right hand side as you pull into the parking lot. After you park\, walk up to the glass door at the bottom of the black ramp\, ring the doorbell\, let the team know you’ve arrived to drop off KindSoups): Drop-off Tuesday-Friday 10am-4pm and Saturdays 7am-12pm.\nUpcounty Consolidation Hub 12900 Middlebrook Rd.\, Germantown (supporting 1\,000 families with food and other supports). Drop off Tuesdays\, Wednesdays\, or Fridays 8 am-4:30 pm.\nEmbry Rucker Shelter 11975 Bowman Towne Drive\, Reston\, 703-437-1975. Leave donations on the table around the back. Drop off anytime!\n\nHere are some options for donating outside the DC area: \n\nNYC Community Fridges located throughout New York City.\nBread and Roses 58 Newbury St.\, Lawrence\, Mass.\, 978-681-8768. Drop off  Mondays-Thursdays\, 10 am-4 pm.\nThe Bristol Lodge 27 Lexington St.\, Waltham\, Mass.\, 781-893-0108. Drop off  Mondays-Fridays\, 9am-6pm.\nCommunity Refrigerators located in Los Angeles\n\nSee you in the KindSoup kitchen! \nLearn more about this KindWorks program \n\nOnline KindSoup for Students
URL:https://dokindworks.org/project/kindsoup-for-students-make-butternut-squash-cauliflower-soup-to-share-with-others-2/
LOCATION:Virtual Gathering\, United States
CATEGORIES:Cooking,Food Assistance,KindSoup
ATTACH;FMTTYPE=image/webp:https://dokindworks.org/wp-content/uploads/2025/04/Winter-Vegetable-Soup-Butternut-Squash-Blog-4-e1745605148533.webp
GEO:37.09024;-95.712891
END:VEVENT
BEGIN:VEVENT
DTSTART;VALUE=DATE:20260202
DTEND;VALUE=DATE:20260215
DTSTAMP:20260424T001754
CREATED:20251227T034541Z
LAST-MODIFIED:20260106T025404Z
UID:10005178-1769990400-1771113599@dokindworks.org
SUMMARY:Bake Casseroles & Banana Breads for So What Else
DESCRIPTION:Join our team in preparing nutritious and delicious casseroles and/or banana bread for the individuals served by So What Else in Rockville. \nWhen you sign up below\, you are committing to deliver four individual servings of a casserole or banana bread to the center  February 2nd – 14th  Monday-Friday between 7:00a m-4:00 pm or Saturdays between 5:00am- 3:00pm. You can sign up for additional slots to bring more\, but students seeking SSL hours should note MCPS’s daily limit in the guidelines below. \nOur recipe library has wonderful casserole suggestions\, but you are welcome to deliver any type of nutritious casserole you wish to make. You can substitute zucchini bread or any other healthier type of quick bread in place of banana bread. And if you need of a recipe\, we recommend this one for mini loaves of banana bread. Feel free to customize your breads with chocolate chips\, raisins\, etc. Whatever you make\, be sure to note any allergens in your ingredients on the label (details below). \nHealth and Safety Information\nIn order to protect the quality of your donation and our program\, we ask that volunteers conscientiously observe the following guidelines: \n\nStart with clean hands and wash again frequently as needed throughout the cooking process.\nStart with clean kitchen surfaces and utensils (antibacterial wipes do a great job).\nKeep longer hair tied back.\nFollow other common sense procedures\, such as never returning a tasting spoon to the pot!\n\nThank you for maintaining a high cleanliness standard for your donations! \nHow to Donate Your Meal Servings\nIndividually package up the number of servings you signed up to provide in small food containers with tight-fitting lids. You can buy containers at the grocery store\, or ask your friends and neighbors for their small take-out containers\, and they’ll be thrilled to put their extras to good use! \n\n\n\n\n\n\n\nLabel each container and freeze. (Use this template to print six-per-page KindWorks labels off your own printer.) Labels should include \n\ndate prepared\nyour first name and last initial\ntype of casserole or banana bread\nany relevant allergy or food preference info\n\n\n\n\nDeliver your frozen meals February 2nd – 14th anytime Monday-Friday between 7:00a m-4:00 pm or Saturdays between 5:00am- 3:00pm\, to So What Else at (4924 Wyaconda Road\, Rockville\, MD). \nStudent Service Learning\nStudents who sign up in advance\, participate in this project\, and submit a completed KindWorks SSL Request Form can earn SSL hours at the following rate: \n\n4 single casserole servings = 2 SSL hours\n4 mini-loaves of quick bread = 2 SSL hours\n\nNote: MCPS allows no more than 8 SSL hours in a 24-hour period. \nSafety Reminder\nAs with all KindWorks projects\, when you register you do so with the understanding that volunteering may involve physical activity\, the handling of sharp objects and cooking apparatus\, the lifting of heavy objects\, contact with unidentified and unfamiliar persons\, and will require the exercise of reasonable care to avoid injury and/or damage\, and agree to assume any and all risks of personal injury or property damage. \nLearn more about this KindWorks program \n\nCasserole & Banana Bread Donations
URL:https://dokindworks.org/project/bake-casseroles-banana-breads-for-so-what-else-3/
LOCATION:So What Else\, 4924 Wyaconda Road\, Rockville\, 20852\, United States
CATEGORIES:Baking for Community,Cooking,Shelter Support
ATTACH;FMTTYPE=image/jpeg:https://dokindworks.org/wp-content/uploads/2022/10/sheri-silver-q5C-_coAZR4-unsplash-scaled.jpg
GEO:39.0437972;-77.0985556
X-APPLE-STRUCTURED-LOCATION;VALUE=URI;X-ADDRESS=So What Else 4924 Wyaconda Road Rockville 20852 United States;X-APPLE-RADIUS=500;X-TITLE=4924 Wyaconda Road:geo:-77.0985556,39.0437972
END:VEVENT
BEGIN:VEVENT
DTSTART;TZID=America/New_York:20260215T170000
DTEND;TZID=America/New_York:20260215T180000
DTSTAMP:20260424T001754
CREATED:20260124T000501Z
LAST-MODIFIED:20260124T001634Z
UID:10005201-1771174800-1771178400@dokindworks.org
SUMMARY:KindSoup for Students - Make Blended Winter Vegetables Soup to Share With Others
DESCRIPTION:Join us online for KindSoup for Students as we make a Blended Winter Vegetables Soup (based on this recipe from 101 Cookbooks). After completing your soup\, and sharing some with your family\, freeze and label the rest for donation\, then drop off at one of our participating food assistance providers. \nStudents can earn 1 Student Service Learning Hour for every 2 quarts of frozen soup made with the group and delivered to others.  There is a maximum of 8 quarts that can qualify for any given day (4 hours). Most recipes render at least 6 quarts of soup\, 3 SSL hours.  \nIn order to receive SSL Hours \n\n take a picture during preparation and at delivery\nreport on where you shared your KindSoup \nComplete this SSL Form  \n\nConnect to Zoom event \n\n\nBlended Winter Vegetables Soup\n\n\n\n\n6 tablespoons extra virgin olive oil\n3 tablespoons butter\n7 medium yellow onions\, peeled\n8 medium potatoes\n15 medium carrots\, peeled\n1/2 tablespoon salt\n12 cloves garlic\, peeled and sliced\n2 inches ginger (grated)\n6 quarts vegetable (or chicken) broth\n9 cups broccoli\, florets and stems\njuice of 3 lemons\n\nChop the vegetables into 1-inch pieces before the Zoom session starts. This is the most time-consuming part of the recipe. \nSoup Instructions\n\n\n\nHeat the olive oil and butter in a large soup pot over medium-high. Add the onions and salt\, stir to coat. Cover and cook for 5-10 minutes\, stirring occasionally until onions soften completely.\nAdd the garlic and ginger and cook for another minute or so. Add the potatoes and carrots along with the broth. Bring to a boil\, then reduce to a simmer.\nAfter 5 minutes of simmering\, add the broccoli and boil another 7-10 minutes or so. You want everything to be tender (especially check if the potato and broccoli are tender). Remove from heat.\nBlend the mixture in a high-speed blender (in batches) or using an immersion blender. Be careful\, it’s hot. If the soup is thicker than you like\, add more hot water or broth at this point. The most important step is next. Season the soup well to your liking with more salt\, if needed\, and the lemon juice (if you like it sour). Enjoy!\n\n\n\n\nHealth and Safety Information\nIn order to protect the the quality of our KindSoup program\, we ask that volunteers conscientiously observe the following guidelines: \n\nStart with clean hands and wash again frequently as needed throughout the cooking process.\nStart with clean kitchen surfaces and utensils (antibacterial wipes do a great job).\nKeep longer hair tied back.\nFollow other common sense procedures\, such as never returning a tasting spoon to the pot!\n\nThank you for maintaining a high cleanliness standard for our KindSoup donations! \nSTUDENTS:  \nPrior to our Sunday\, February 15th cooking session:  \n\nConfirm your participation by signing up at the bottom of this page\nGather your ingredients\nMake sure that you have either a Soup Pot large enough to hold all of this soup\, or two smaller ones that will together hold it all\nHave 6 quart sized plastic soup containers with tight fitting lids (ask your neighbors if you could have theirs rather than them recycling them – they will be thrilled)\n\nHave all of your ingredients and cooking tools out and ready for when you sign on to our zoom at 5pm. (long hair should be tied back\, and everyone should start with freshly washed hands and gloves if you have them) You can start peeling and chopping your veggies while you wait for us to begin. \nEveryone’s first name should identify them on our zoom screen please. \nSee you soon!!\nHow to Donate Your KindSoup\nSeal containers with a tight lid and freeze. Label each container with: date prepared\, your first name and last initial\, “Blended Winter Vegetables Soup” and any relevant food allergy info (which we will discuss on the call).  As soon as is convenient\, drop containers of frozen soup off at one of the following participating food assistance providers\, and can give one quart away also to a person or family that is in your heart and/or going through a difficult time.  You will report all KindSoups that you shared – with to the food assistance organization\, or to those people whom you know. \n\nRainbow Community Development Center 12120 Tech Road\, Silver Spring (this takes you to the rear parking lot and loading dock – there is usually a large RAINBOW truck parked here): Drop-off Monday-Friday 9am-2pm. NOTE: If you go during Rainbow’s food distributions on Tuesdays/Thursdays from 9am-noon\, you may see a long line of cars – you can drive past the cars to drop off your KindSoup. If you go at other times and the garage or back door is not open\, call or text Anna on her personal cell at 301-852-4184 (if she doesn’t answer\, leave a message and she should get back within a few minutes\, or try calling the Rainbow Pantry cellphone: 240-639-2293).   \nSo What Else 4924 Wyaconda Road\, Rockville\, 240-705-4345. (Look for the Dogtopia. Drive straight past Doptopia to get to our parking lot. The entrance will be on the right hand side as you pull into the parking lot. After you park\, walk up to the glass door at the bottom of the black ramp\, ring the doorbell\, let the team know you’ve arrived to drop off KindSoups): Drop-off Tuesday-Friday 10am-4pm and Saturdays 7am-12pm.\nUpcounty Consolidation Hub 12900 Middlebrook Rd.\, Germantown (supporting 1\,000 families with food and other supports). Drop off Tuesdays\, Wednesdays\, or Fridays 8 am-4:30 pm.\nEmbry Rucker Shelter 11975 Bowman Towne Drive\, Reston\, 703-437-1975. Leave donations on the table around the back. Drop off anytime!\n\nHere are some options for donating outside the DC area: \n\nNYC Community Fridges located throughout New York City.\nBread and Roses 58 Newbury St.\, Lawrence\, Mass.\, 978-681-8768. Drop off  Mondays-Thursdays\, 10 am-4 pm.\nThe Bristol Lodge 27 Lexington St.\, Waltham\, Mass.\, 781-893-0108. Drop off  Mondays-Fridays\, 9am-6pm.\nCommunity Refrigerators located in Los Angeles\n\nSee you in the KindSoup kitchen! \nLearn more about this KindWorks program \n\nOnline KindSoup for Students
URL:https://dokindworks.org/project/kindsoup-for-students-make-blended-winter-vegetables-soup-to-share-with-others/
LOCATION:Virtual Gathering\, United States
CATEGORIES:Cooking,Food Assistance,KindSoup
ATTACH;FMTTYPE=image/png:https://dokindworks.org/wp-content/uploads/2026/01/Blended-Winter-Vegetables-Soup-e1769212929573.png
GEO:37.09024;-95.712891
END:VEVENT
BEGIN:VEVENT
DTSTART;VALUE=DATE:20260216
DTEND;VALUE=DATE:20260301
DTSTAMP:20260424T001754
CREATED:20251227T034949Z
LAST-MODIFIED:20260106T024539Z
UID:10005177-1771200000-1772323199@dokindworks.org
SUMMARY:Bake Casseroles & Banana Breads for So What Else
DESCRIPTION:Join our team in preparing nutritious and delicious casseroles and/or banana bread for the individuals served by So What Else in Rockville. \nWhen you sign up below\, you are committing to deliver four individual servings of a casserole or banana bread to the center  February 16th – 28th  Monday-Friday between 7:00a m-4:00 pm or Saturdays between 5:00am- 3:00pm. You can sign up for additional slots to bring more\, but students seeking SSL hours should note MCPS’s daily limit in the guidelines below. \nOur recipe library has wonderful casserole suggestions\, but you are welcome to deliver any type of nutritious casserole you wish to make. You can substitute zucchini bread or any other healthier type of quick bread in place of banana bread. And if you need of a recipe\, we recommend this one for mini loaves of banana bread. Feel free to customize your breads with chocolate chips\, raisins\, etc. Whatever you make\, be sure to note any allergens in your ingredients on the label (details below). \nHealth and Safety Information\nIn order to protect the quality of your donation and our program\, we ask that volunteers conscientiously observe the following guidelines: \n\nStart with clean hands and wash again frequently as needed throughout the cooking process.\nStart with clean kitchen surfaces and utensils (antibacterial wipes do a great job).\nKeep longer hair tied back.\nFollow other common sense procedures\, such as never returning a tasting spoon to the pot!\n\nThank you for maintaining a high cleanliness standard for your donations! \nHow to Donate Your Meal Servings\nIndividually package up the number of servings you signed up to provide in small food containers with tight-fitting lids. You can buy containers at the grocery store\, or ask your friends and neighbors for their small take-out containers\, and they’ll be thrilled to put their extras to good use! \n\n\n\n\n\n\n\nLabel each container and freeze. (Use this template to print six-per-page KindWorks labels off your own printer.) Labels should include \n\ndate prepared\nyour first name and last initial\ntype of casserole or banana bread\nany relevant allergy or food preference info\n\n\n\n\nDeliver your frozen meals February 16th – 28th anytime Monday-Friday between 7:00a m-4:00 pm or Saturdays between 5:00am- 3:00pm\, to So What Else at (4924 Wyaconda Road\, Rockville\, MD). \nStudent Service Learning\nStudents who sign up in advance\, participate in this project\, and submit a completed KindWorks SSL Request Form can earn SSL hours at the following rate: \n\n4 single casserole servings = 2 SSL hours\n4 mini-loaves of quick bread = 2 SSL hours\n\nNote: MCPS allows no more than 8 SSL hours in a 24-hour period. \nSafety Reminder\nAs with all KindWorks projects\, when you register you do so with the understanding that volunteering may involve physical activity\, the handling of sharp objects and cooking apparatus\, the lifting of heavy objects\, contact with unidentified and unfamiliar persons\, and will require the exercise of reasonable care to avoid injury and/or damage\, and agree to assume any and all risks of personal injury or property damage. \nLearn more about this KindWorks program \n\nCasserole & Banana Bread Donations
URL:https://dokindworks.org/project/bake-casseroles-banana-breads-for-so-what-else-4/
LOCATION:So What Else\, 4924 Wyaconda Road\, Rockville\, 20852\, United States
CATEGORIES:Baking for Community,Cooking,Shelter Support
ATTACH;FMTTYPE=image/jpeg:https://dokindworks.org/wp-content/uploads/2022/10/sheri-silver-q5C-_coAZR4-unsplash-scaled.jpg
GEO:39.0437972;-77.0985556
X-APPLE-STRUCTURED-LOCATION;VALUE=URI;X-ADDRESS=So What Else 4924 Wyaconda Road Rockville 20852 United States;X-APPLE-RADIUS=500;X-TITLE=4924 Wyaconda Road:geo:-77.0985556,39.0437972
END:VEVENT
END:VCALENDAR