BEGIN:VCALENDAR
VERSION:2.0
PRODID:-//KindWorks - ECPv6.15.20//NONSGML v1.0//EN
CALSCALE:GREGORIAN
METHOD:PUBLISH
X-ORIGINAL-URL:https://dokindworks.org
X-WR-CALDESC:Events for KindWorks
REFRESH-INTERVAL;VALUE=DURATION:PT1H
X-Robots-Tag:noindex
X-PUBLISHED-TTL:PT1H
BEGIN:VTIMEZONE
TZID:America/New_York
BEGIN:DAYLIGHT
TZOFFSETFROM:-0500
TZOFFSETTO:-0400
TZNAME:EDT
DTSTART:20240310T070000
END:DAYLIGHT
BEGIN:STANDARD
TZOFFSETFROM:-0400
TZOFFSETTO:-0500
TZNAME:EST
DTSTART:20241103T060000
END:STANDARD
BEGIN:DAYLIGHT
TZOFFSETFROM:-0500
TZOFFSETTO:-0400
TZNAME:EDT
DTSTART:20250309T070000
END:DAYLIGHT
BEGIN:STANDARD
TZOFFSETFROM:-0400
TZOFFSETTO:-0500
TZNAME:EST
DTSTART:20251102T060000
END:STANDARD
BEGIN:DAYLIGHT
TZOFFSETFROM:-0500
TZOFFSETTO:-0400
TZNAME:EDT
DTSTART:20260308T070000
END:DAYLIGHT
BEGIN:STANDARD
TZOFFSETFROM:-0400
TZOFFSETTO:-0500
TZNAME:EST
DTSTART:20261101T060000
END:STANDARD
END:VTIMEZONE
BEGIN:VEVENT
DTSTART;TZID=America/New_York:20250601T170000
DTEND;TZID=America/New_York:20250601T180000
DTSTAMP:20260424T225324
CREATED:20250425T181938Z
LAST-MODIFIED:20250521T154131Z
UID:10005034-1748797200-1748800800@dokindworks.org
SUMMARY:KindSoup for Students - Make Butternut Squash & Cauliflower Soup to Share With Others
DESCRIPTION:Join KindChef Deb online for KindSoup for Students as we make a Butternut Squash & Cauliflower Soup (based on this recipe from Cookin Canuck). After completing your soup\, and sharing some with your family\, freeze and label the rest for donation\, then drop off at one of our participating food assistance providers. \nStudents can earn 1 Student Service Learning Hour for every 2 quarts of frozen soup made with the group and delivered to others.  There is a maximum of 8 quarts that can qualify for any given day (4 hours). Most recipes render at least 6 quarts of soup\, 3 SSL hours.  \nIn order to receive SSL Hours \n\n take a picture during preparation and at delivery\nreport on where you shared your KindSoup \nComplete this SSL Form  \n\nConnect to Zoom event \n\n\nButternut Squash & Cauliflower Soup\n\n\n\n\n2 tablespoons olive oil\n3 medium onions chopped\n9 cloves garlic minced\n6 medium carrots cut into thin half-circles\n6 medium celery stalks thinly sliced\n2 1/4 teaspoon dried thyme\n1 teaspoon dried chile flakes\n1 1/2 teaspoon kosher salt\n4 1/2 tablespoon tomato paste\n3 3/4 pound butternut squash about 4 cups\n2 1/4 pound cauliflower about 3 cups\n9 cups vegetable broth\n4 1/2 cups water \n6 bay leaves\n3/4 cup minced Italian parsley\nSalt and pepper to taste\n\nSoup Instructions\n\n\n\nHeat olive oil in a large saucepan set over medium heat.\nAdd the onions and cook\, stirring occasionally\, until the onions just start to soften\, about 5 minutes.\nAdd the garlic\, carrots\, celery\, thyme\, dried chile flakes and salt. Cook until the vegetables are tender\, about 5 minutes.\nStir in the tomato paste and cook for one additional minute. \nStir in the butternut squash\, cauliflower\, vegetable broth\, water and bay leaves. Bring to a boil\, then reduce to a simmer\, partially cover the saucepan and cook until the squash and cauliflower are tender\, 15 to 20 minutes.\nLet the soup cool for 10 minutes\, then transfer 9 cups of the soup to a blender. Puree until almost smooth\, then stir the mixture back into the soup.\nStir in the parsley\, add salt and pepper (if desired) and serve.\n\nHealth and Safety Information \n\n\n\nIn order to protect the the quality of our KindSoup program\, we ask that volunteers conscientiously observe the following guidelines: \n\nStart with clean hands and wash again frequently as needed throughout the cooking process.\nStart with clean kitchen surfaces and utensils (antibacterial wipes do a great job).\nKeep longer hair tied back.\nFollow other common sense procedures\, such as never returning a tasting spoon to the pot!\n\nThank you for maintaining a high cleanliness standard for our KindSoup donations! \nSTUDENTS:  \nPrior to our Sunday\, June 1st cooking session:  \n\nConfirm your participation by signing up at the bottom of this page\nGather your ingredients\nMake sure that you have either a Soup Pot large enough to hold all of this soup\, or two smaller ones that will together hold it all\nHave 6 quart sized plastic soup containers with tight fitting lids (ask your neighbors if you could have theirs rather than them recycling them – they will be thrilled)\n\nHave all of your ingredients and cooking tools out and ready for when you sign on to our zoom at 5pm. (long hair should be tied back\, and everyone should start with freshly washed hands and gloves if you have them) You can start peeling and chopping your veggies while you wait for us to begin. \nEveryone’s first name should identify them on our zoom screen please. \nSee you soon!!\nHow to Donate Your KindSoup\nSeal containers with a tight lid and freeze. Label each container with: date prepared\, your first name and last initial\, “Butternut Squash & Cauliflower Soup” and any relevant food allergy info (which we will discuss on the call).  As soon as is convenient\, drop containers of frozen soup off at one of the following participating food assistance providers\, and can give one quart away also to a person or family that is in your heart and/or going through a difficult time.  You will report all KindSoups that you shared – with to the food assistance organization\, or to those people whom you know. \n\n5171 Manning Place NW (in the Palisades neighborhood in DC). NOTE: Soups dropped here must be vegetarian or Halal only\, please. \nRainbow Community Development Center 12120 Tech Road\, Silver Spring (this takes you to the rear parking lot and loading dock – there is usually a large RAINBOW truck parked here): Drop-off Monday-Friday 9am-2pm. NOTE: If you go during Rainbow’s food distributions on Tuesdays/Thursdays from 9am-noon\, you may see a long line of cars – you can drive past the cars to drop off your KindSoup. If you go at other times and the garage or back door is not open\, call or text Anna on her personal cell at 301-852-4184 (if she doesn’t answer\, leave a message and she should get back within a few minutes\, or try calling the Rainbow Pantry cellphone: 240-639-2293).   \nSo What Else 4924 Wyaconda Road\, Rockville\, 240-705-4345. (Look for the Dogtopia. Drive straight past Doptopia to get to our parking lot. The entrance will be on the right hand side as you pull into the parking lot. After you park\, walk up to the glass door at the bottom of the black ramp\, ring the doorbell\, let the team know you’ve arrived to drop off KindSoups): Drop-off Tuesday-Friday 10am-4pm and Saturdays 7am-12pm.\nUpcounty Consolidation Hub 12900 Middlebrook Rd.\, Germantown (supporting 1\,000 families with food and other supports). Drop off Tuesdays\, Wednesdays\, or Fridays 8 am-4:30 pm.\nEmbry Rucker Shelter 11975 Bowman Towne Drive\, Reston\, 703-437-1975. Leave donations on the table around the back. Drop off anytime!\n\nHere are some options for donating outside the DC area: \n\nNYC Community Fridges located throughout New York City.\nBread and Roses 58 Newbury St.\, Lawrence\, Mass.\, 978-681-8768. Drop off  Mondays-Thursdays\, 10 am-4 pm.\nThe Bristol Lodge 27 Lexington St.\, Waltham\, Mass.\, 781-893-0108. Drop off  Mondays-Fridays\, 9am-6pm.\nCommunity Refrigerators located in Los Angeles\n\nSee you in the KindSoup kitchen! \nLearn more about this KindWorks program \n\nOnline KindSoup for Students
URL:https://dokindworks.org/project/kindsoup-for-students-make-butternut-squash-cauliflower-soup-to-share-with-others/
LOCATION:Virtual Gathering\, United States
CATEGORIES:Cooking,Food Assistance,KindSoup
ATTACH;FMTTYPE=image/webp:https://dokindworks.org/wp-content/uploads/2025/04/Winter-Vegetable-Soup-Butternut-Squash-Blog-4-e1745605148533.webp
GEO:37.09024;-95.712891
END:VEVENT
BEGIN:VEVENT
DTSTART;TZID=America/New_York:20250615T170000
DTEND;TZID=America/New_York:20250615T180000
DTSTAMP:20260424T225324
CREATED:20250425T192924Z
LAST-MODIFIED:20250521T154145Z
UID:10005035-1750006800-1750010400@dokindworks.org
SUMMARY:KindSoup for Students - Make Golden Potato and Greens Soup to Share With Others
DESCRIPTION:Join KindChef Deb online for KindSoup for Students as we make Golden Potato and Greens Soup (based on this recipe from New York times.) After completing your soup\, and sharing some with your family\, freeze and label the rest for donation\, then drop off at one of our participating food assistance providers. \nStudents can earn 1 Student Service Learning Hour for every 2 quarts of frozen soup made with the group and delivered to others.  There is a maximum of 8 quarts that can qualify for any given day (4 hours). Most recipes render at least 6 quarts of soup\, 3 SSL hours.  \nIn order to receive SSL Hours \n\n take a picture during preparation and at delivery\nreport on where you shared your KindSoup \nComplete this SSL Form  \n\nConnect to Zoom event \n\n\nGolden Potato and Greens Soup\n\n\n\n\n1/2 cup extra-virgin olive oil\, plus more for garnishing\n6 medium leeks (white and green parts)\, finely chopped\n12 garlic cloves\, thinly sliced\n6 pounds baby Yukon Gold potatoes\, sliced into rounds (about ¼-inch thick)\n1 Tbsp ground turmeric (or more to taste)\n1 tsp red pepper flakes – more to taste\nSalt and black pepper\n3 bunches Swiss chard\, kale or mature spinach\, stems removed\, coarsely chopped\nCoarsely chopped dill\, for garnishing\noptional: can or 2 of coconut milk\n\nSoup Instructions\n\n\n\nHeat oil in a large pot over medium-high. Add the leeks and garlic and cook\, stirring occasionally\, until the leeks have softened but have not browned\, 4 to 6 minutes. Add the potatoes\, turmeric and red pepper flakes and season with salt and pepper. Using a wooden spoon\, give the potatoes and leeks a good stir to coat them with the spices.\nPour 15 cups of water into the pot\, season with more salt and bring to a simmer. Cook\, stirring occasionally\, until the potatoes are very soft and nearly falling apart\, 25 to 30 minutes. Use the spoon to mash down a few of the potatoes to help them release their starch\, which will thicken the soup and make it even more creamy. Throw in the Swiss chard and simmer until just wilted\, 2 to 3 minutes. Taste and add more salt\, if needed.\nLadle the soup into bowls. Scatter the dill over top\, drizzle with oil and finish with a few cranks of pepper before serving.\n\n\n\n\nHealth and Safety Information\nIn order to protect the the quality of our KindSoup program\, we ask that volunteers conscientiously observe the following guidelines: \n\nStart with clean hands and wash again frequently as needed throughout the cooking process.\nStart with clean kitchen surfaces and utensils (antibacterial wipes do a great job).\nKeep longer hair tied back.\nFollow other common sense procedures\, such as never returning a tasting spoon to the pot!\n\nThank you for maintaining a high cleanliness standard for our KindSoup donations! \nSTUDENTS:  \nPrior to our Sunday\, June 15th cooking session:  \n\nConfirm your participation by signing up at the bottom of this page\nGather your ingredients\nMake sure that you have either a Soup Pot large enough to hold all of this soup\, or two smaller ones that will together hold it all\nHave 6 quart sized plastic soup containers with tight fitting lids (ask your neighbors if you could have theirs rather than them recycling them – they will be thrilled)\n\nHave all of your ingredients and cooking tools out and ready for when you sign on to our zoom at 5pm. (long hair should be tied back\, and everyone should start with freshly washed hands and gloves if you have them) You can start peeling and chopping your veggies while you wait for us to begin. \nEveryone’s first name should identify them on our zoom screen please. \nSee you soon!!\nHow to Donate Your KindSoup\nSeal containers with a tight lid and freeze. Label each container with: date prepared\, your first name and last initial\, “Golden Potato and Greens Soup” and any relevant food allergy info (which we will discuss on the call).  As soon as is convenient\, drop containers of frozen soup off at one of the following participating food assistance providers\, and can give one quart away also to a person or family that is in your heart and/or going through a difficult time.  You will report all KindSoups that you shared – with to the food assistance organization\, or to those people whom you know. \n\n5171 Manning Place NW (in the Palisades neighborhood in DC). NOTE: Soups dropped here must be vegetarian or Halal only\, please. \nRainbow Community Development Center 12120 Tech Road\, Silver Spring (this takes you to the rear parking lot and loading dock – there is usually a large RAINBOW truck parked here): Drop-off Monday-Friday 9am-2pm. NOTE: If you go during Rainbow’s food distributions on Tuesdays/Thursdays from 9am-noon\, you may see a long line of cars – you can drive past the cars to drop off your KindSoup. If you go at other times and the garage or back door is not open\, call or text Anna on her personal cell at 301-852-4184 (if she doesn’t answer\, leave a message and she should get back within a few minutes\, or try calling the Rainbow Pantry cellphone: 240-639-2293).   \nSo What Else 4924 Wyaconda Road\, Rockville\, 240-705-4345. (Look for the Dogtopia. Drive straight past Doptopia to get to our parking lot. The entrance will be on the right hand side as you pull into the parking lot. After you park\, walk up to the glass door at the bottom of the black ramp\, ring the doorbell\, let the team know you’ve arrived to drop off KindSoups): Drop-off Tuesday-Friday 10am-4pm and Saturdays 7am-12pm.\nUpcounty Consolidation Hub 12900 Middlebrook Rd.\, Germantown (supporting 1\,000 families with food and other supports). Drop off Tuesdays\, Wednesdays\, or Fridays 8 am-4:30 pm.\nEmbry Rucker Shelter 11975 Bowman Towne Drive\, Reston\, 703-437-1975. Leave donations on the table around the back. Drop off anytime!\n\nHere are some options for donating outside the DC area: \n\nNYC Community Fridges located throughout New York City.\nBread and Roses 58 Newbury St.\, Lawrence\, Mass.\, 978-681-8768. Drop off  Mondays-Thursdays\, 10 am-4 pm.\nThe Bristol Lodge 27 Lexington St.\, Waltham\, Mass.\, 781-893-0108. Drop off  Mondays-Fridays\, 9am-6pm.\nCommunity Refrigerators located in Los Angeles\n\nSee you in the KindSoup kitchen! \nLearn more about this KindWorks program \n\nOnline KindSoup for Students
URL:https://dokindworks.org/project/kindsoup-for-students-make-golden-potato-and-greens-soup-to-share-with-others/
LOCATION:Virtual Gathering\, United States
CATEGORIES:Cooking,Food Assistance,KindSoup
ATTACH;FMTTYPE=image/png:https://dokindworks.org/wp-content/uploads/2024/10/Golden-Potato-and-Greens-Soup.png
GEO:37.09024;-95.712891
END:VEVENT
END:VCALENDAR