BEGIN:VCALENDAR
VERSION:2.0
PRODID:-//KindWorks - ECPv6.15.20//NONSGML v1.0//EN
CALSCALE:GREGORIAN
METHOD:PUBLISH
X-ORIGINAL-URL:https://dokindworks.org
X-WR-CALDESC:Events for KindWorks
REFRESH-INTERVAL;VALUE=DURATION:PT1H
X-Robots-Tag:noindex
X-PUBLISHED-TTL:PT1H
BEGIN:VTIMEZONE
TZID:America/New_York
BEGIN:DAYLIGHT
TZOFFSETFROM:-0500
TZOFFSETTO:-0400
TZNAME:EDT
DTSTART:20250309T070000
END:DAYLIGHT
BEGIN:STANDARD
TZOFFSETFROM:-0400
TZOFFSETTO:-0500
TZNAME:EST
DTSTART:20251102T060000
END:STANDARD
BEGIN:DAYLIGHT
TZOFFSETFROM:-0500
TZOFFSETTO:-0400
TZNAME:EDT
DTSTART:20260308T070000
END:DAYLIGHT
BEGIN:STANDARD
TZOFFSETFROM:-0400
TZOFFSETTO:-0500
TZNAME:EST
DTSTART:20261101T060000
END:STANDARD
BEGIN:DAYLIGHT
TZOFFSETFROM:-0500
TZOFFSETTO:-0400
TZNAME:EDT
DTSTART:20270314T070000
END:DAYLIGHT
BEGIN:STANDARD
TZOFFSETFROM:-0400
TZOFFSETTO:-0500
TZNAME:EST
DTSTART:20271107T060000
END:STANDARD
END:VTIMEZONE
BEGIN:VEVENT
DTSTART;TZID=America/New_York:20260111T160000
DTEND;TZID=America/New_York:20260111T170000
DTSTAMP:20260425T161322
CREATED:20260105T030339Z
LAST-MODIFIED:20260106T021617Z
UID:10005161-1768147200-1768150800@dokindworks.org
SUMMARY:Har Shalom KindSoup - Indian Lentil and Spinach Soup to Share With Others
DESCRIPTION:Join KindChef Marj Klein to make a Indian Lentil and Spinach Soup for Har Shalom’s Sunday KindSoup. All are welcome – whether Har Shalom congregants or not! \nAfter completing your soup\, freeze and label it for donation\, then drop off at one of our participating food assistance providers\, with a person or family that is in your heart\, or anyplace that you prefer\, when convenient. Finally\, report on where you shared your KindSoup and spread the word: Post a picture or two of you and your soups on social media with #DoKindWorks and tag us @DoKindWorks.  \nContact Marj to Participate \n\n\nIndian Lentil and Spinach Soup\n\n\n\nIngredients\n\n4 Tbsp vegetable oil\n4 teaspoons cumin seeds (if using ground cumin\, use less)\n4 medium-sized red onions\n8 garlic cloves\n4 teaspoons ground ginger\n2 teaspoons garam masala\n1 teaspoon turmeric\n1 lemon\, juiced\n4 small tomatoes (Roma are good for this\, canned are fine)\n4 cups lentils – yellow preferred – red cook fast and can get mushy\n8 cups fresh spinach or 4 cups frozen chopped spinach\, thawed and drained\n2 cups coconut milk\nSalt to taste\nCayenne pepper\, chili powder\, or sriracha to taste\nCilantro for garnish (optional)\n\nInstructions\n\n\nHeat oil in large saucepan\, add cumin seeds (they will sizzle upon contact).Add onion\, ginger\, garlic\, garam masala\, and turmeric\, and cook\, stirring constantly\, until the spices are fragrant\, about 1 minute.+\nAdd tomato and cook until soft.\nAdd lentils and 7-9 cups of water (start with 7)\, reduce heat to low\, cover\, and gently simmer. Check after 10 mins to see if you need more water (for thinner soup add more water).\nStir in spinach\, coconut milk\, lemon juice\, salt\, and cayenne/sriracha/chili powder to taste. Cover and simmer until spinach is cooked about 5-10 more mins. Serve hot\, garnished with cilantro if desired.\n\n\n\nHealth and Safety Information\nIn order to protect the the quality of our KindSoup program\, we ask that volunteers conscientiously observe the following guidelines: \n\nStart with clean hands and wash again frequently as needed throughout the cooking process.\nStart with clean kitchen surfaces and utensils (antibacterial wipes do a great job).\nKeep longer hair tied back.\nFollow other common sense procedures\, such as never returning a tasting spoon to the pot!\n\nThank you for maintaining a high cleanliness standard for our KindSoup donations! \nHow to Donate Your KindSoup\nSeal containers with a tight lid and freeze. Label each container with: date prepared\, your first name and last initial\, “Indian Lentil and Spinach Soup” and any relevant food allergy info.  When convenient\, drop containers of frozen soup off at one of the following participating food assistance providers\, with a person or family that is in your heart\, or a place that you prefer. \n\n5171 Manning Place NW (in the Palisades neighborhood in DC). \nRainbow Community Development Center 12120 Tech Road\, Silver Spring (this takes you to the rear parking lot and loading dock – there is usually a large RAINBOW truck parked here): Drop-off Monday-Friday 9am-2pm. NOTE: If you go during Rainbow’s food distributions on Tuesdays/Thursdays from 9am-noon\, you may see a long line of cars – you can drive past the cars to drop off your KindSoup. If you go at other times and the garage or back door is not open\, call or text Anna on her personal cell at 301-852-4184 (if she doesn’t answer\, leave a message and she should get back within a few minutes\, or try calling the Rainbow Pantry cellphone: 240-639-2293).   \nSo What Else 4924 Wyaconda Road\, Rockville\, 240-705-4345. (Look for the Dogtopia. Drive straight past Doptopia to get to our parking lot. The entrance will be on the right hand side as you pull into the parking lot. After you park\, walk up to the glass door at the bottom of the black ramp\, ring the doorbell\, let the team know you’ve arrived to drop off KindSoups): Drop-off Tuesday-Friday 10am-4pm and Saturdays 7am-12pm.\nUpcounty Consolidation Hub 12900 Middlebrook Rd.\, Germantown (supporting 1\,000 families with food and other supports). Drop off Tuesdays\, Wednesdays\, or Fridays 8 am-4:30 pm.\nEmbry Rucker Shelter 11975 Bowman Towne Drive\, Reston\, 703-437-1975. Leave donations on the table around the back. Drop off anytime!\n\nHere are some options for donating outside the DC area: \n\nNYC Community Fridges located throughout New York City. \nBread and Roses 58 Newbury St.\, Lawrence\, Mass.\, 978-681-8768. Drop off  Mondays-Thursdays\, 10 am-4 pm.\nThe Bristol Lodge 27 Lexington St.\, Waltham\, Mass.\, 781-893-0108. Drop off  Mondays-Fridays\, 9am-6pm.\nCommunity Refrigerators located in Los Angeles\n\nSee you in the KindSoup kitchen! \nLearn more about this KindWorks program \n 
URL:https://dokindworks.org/project/har-shalom-kindsoup-indian-lentil-and-spinach-soup-to-share-with-others/
LOCATION:Virtual Gathering\, United States
CATEGORIES:Cooking,Food Assistance,KindSoup
ATTACH;FMTTYPE=image/jpeg:https://dokindworks.org/wp-content/uploads/2026/01/Indian-lentil-soup-1-e1767665637227.jpg
GEO:37.09024;-95.712891
END:VEVENT
END:VCALENDAR