BEGIN:VCALENDAR
VERSION:2.0
PRODID:-//KindWorks - ECPv6.15.20//NONSGML v1.0//EN
CALSCALE:GREGORIAN
METHOD:PUBLISH
X-WR-CALNAME:KindWorks
X-ORIGINAL-URL:https://dokindworks.org
X-WR-CALDESC:Events for KindWorks
REFRESH-INTERVAL;VALUE=DURATION:PT1H
X-Robots-Tag:noindex
X-PUBLISHED-TTL:PT1H
BEGIN:VTIMEZONE
TZID:America/New_York
BEGIN:DAYLIGHT
TZOFFSETFROM:-0500
TZOFFSETTO:-0400
TZNAME:EDT
DTSTART:20240310T070000
END:DAYLIGHT
BEGIN:STANDARD
TZOFFSETFROM:-0400
TZOFFSETTO:-0500
TZNAME:EST
DTSTART:20241103T060000
END:STANDARD
BEGIN:DAYLIGHT
TZOFFSETFROM:-0500
TZOFFSETTO:-0400
TZNAME:EDT
DTSTART:20250309T070000
END:DAYLIGHT
BEGIN:STANDARD
TZOFFSETFROM:-0400
TZOFFSETTO:-0500
TZNAME:EST
DTSTART:20251102T060000
END:STANDARD
BEGIN:DAYLIGHT
TZOFFSETFROM:-0500
TZOFFSETTO:-0400
TZNAME:EDT
DTSTART:20260308T070000
END:DAYLIGHT
BEGIN:STANDARD
TZOFFSETFROM:-0400
TZOFFSETTO:-0500
TZNAME:EST
DTSTART:20261101T060000
END:STANDARD
END:VTIMEZONE
BEGIN:VEVENT
DTSTART;TZID=America/New_York:20251229T170000
DTEND;TZID=America/New_York:20251229T180000
DTSTAMP:20260425T161331
CREATED:20251219T004710Z
LAST-MODIFIED:20251219T140142Z
UID:10005166-1767027600-1767031200@dokindworks.org
SUMMARY:Make Haitian Soupe JouMou to Share With Others
DESCRIPTION:Join KindChef Alexa to make a Haitian Soupe JouMou (based on this recipe from New York Times.) After completing your soup\, freeze and label it for donation\, then drop off at one of our participating food assistance providers\, with a person or family that is in your heart\, or anyplace that you prefer\, when convenient. Finally\, report on where you shared your KindSoup and spread the word: Post a picture or two of you and your soups on social media with #DoKindWorks and tag us @DoKindWorks. \nConnect to Zoom event \n\n\nHaitian Soupe JouMou\n\n\n\nIngredients\n\nSquash Puree\n3 tablespoons olive oil\n3 onions\, coarsely chopped\n6-9 cloves garlic\, chopped\n3 butternut squash (about 6 pounds)\, peeled and chopped into chunks\n6 cups vegetable broth\nsalt\n6 tablespoons olive oil\n6 shallots\, chopped fine\n12-15 cloves garlic\, minced or crushed\n3 leeks\, sliced in half and cut into 1-inch pieces\n3-6 Yukon gold potatoes\, peeled and diced in 1-inch pieces\n9 carrots\, peeled and cut in 1-inch pieces\n6 stalks of celery\, cut in 1-inch pieces\n3-6 malanga\, peeled and cut into 1-inch pieces (optional)\n3 turnips\, peeled and cut into 1-inch pieces\n6 scallions\, sliced plus more for garnish\n1 cup parsley\, chopped\, plus more for garnish\n1 large head of green cabbage\, cored and cut into 1-inch pieces\n18-24 cups vegetable broth\n3 habanero chile peppers\, seeded (optional)\n12 sprigs of thyme\n12 ounces vermicelli or capellini noodles\, broken in halves or thirds\n3 dashes of ground cloves\nsalt\nfreshly ground pepper\njuice of 3 limes\, plus wedges to serve\n\nInstructions\n\n\nMake the squash puree: in a saucepan over medium heat\, heat oil and sauté onions and garlic. Add butternut squash\, broth and salt. Bring to a boil. Lower heat\, cover and simmer until squash is tender. About 10 minutes. Working in batches\, purée squash in blender until smooth. Set aside. \nIn a large pot\, heat oil under medium heat. Add shallots\, then garlic and simmer until fragrant. Add leeks\, potatoes\, carrots\, celery\, malanga\, turnip\, scallions\, parsley. Add salt and toss. Add cabbage\, 18-21 cups vegetable broth\, habanero pepper (if using)\, and thyme. Bring to a boil\, then cover and simmer until vegetables are softened\, about 20 minutes. Add squash purée. Then noodles. Add more broth if necessary. Cook\, stirring occasionally until soup thickens slightly\, approximately 10 minutes. Remove and discard thyme sprigs and pepper. Season with salt\, pepper and lime juice. Ladle in bowls\, garnish with parsley and scallions. Serve with lime wedges and bread.\n\nNotes (from Martine\, our original JouMou chef\, with her son Olivier) \n\n I’ve listed malanga as an optional ingredient as it may be a challenge for some of you to find. Malanga\, is a starchy root vegetable that is similar in texture and appearance to taro and cassava\, but has more of a woodsy taste. After it is peeled\, it can be boiled and eaten like a potato. When added to soups\, it helps thicken the broth. It’s usually found in Latin American grocery stores and in some supermarkets.\nHabanero peppers are quite hot so add just a little or none at all if you have difficulties with spicy heat. Because there are people in my household that don’t eat spicy food\, I leave out the chile pepper when I make this soup. Instead\, I add a splash of habanero hot sauce in the individual bowls of those\, like me\, who like a dose of spicy. My hot sauce of preference is Marie Sharp’s Habanero Pepper Sauce (I have no affiliation) from Belize. I fell in love with it when I visited Belize years ago. The ingredients in the sauce include habanero peppers\, carrots and lime juice so the sauce goes very well with this soup.\n\n\n\nHealth and Safety Information\nIn order to protect the the quality of our KindSoup program\, we ask that volunteers conscientiously observe the following guidelines: \n\nStart with clean hands and wash again frequently as needed throughout the cooking process.\nStart with clean kitchen surfaces and utensils (antibacterial wipes do a great job).\nKeep longer hair tied back.\nFollow other common sense procedures\, such as never returning a tasting spoon to the pot!\n\nThank you for maintaining a high cleanliness standard for our KindSoup donations! \nHow to Donate Your KindSoup\nSeal containers with a tight lid and freeze. Label each container with: date prepared\, your first name and last initial\, “Haitian Soupe JouMou” and any relevant food allergy info. When convenient\, drop containers of frozen soup off at one of the following participating food assistance providers\, with a person or family that is in your heart\, or a place that you prefer. \n\n5171 Manning Place NW (in the Palisades neighborhood in DC). \nRainbow Community Development Center 12120 Tech Road\, Silver Spring (this takes you to the rear parking lot and loading dock – there is usually a large RAINBOW truck parked here): Drop-off Monday-Friday 9am-2pm. NOTE: If you go during Rainbow’s food distributions on Tuesdays/Thursdays from 9am-noon\, you may see a long line of cars – you can drive past the cars to drop off your KindSoup. If you go at other times and the garage or back door is not open\, call or text Anna on her personal cell at 301-852-4184 (if she doesn’t answer\, leave a message and she should get back within a few minutes\, or try calling the Rainbow Pantry cellphone: 240-639-2293).   \nSo What Else 4924 Wyaconda Road\, Rockville\, 240-705-4345. (Look for the Dogtopia. Drive straight past Doptopia to get to our parking lot. The entrance will be on the right hand side as you pull into the parking lot. After you park\, walk up to the glass door at the bottom of the black ramp\, ring the doorbell\, let the team know you’ve arrived to drop off KindSoups): Drop-off Tuesday-Friday 10am-4pm and Saturdays 7am-12pm.\nUpcounty Consolidation Hub 12900 Middlebrook Rd.\, Germantown (supporting 1\,000 families with food and other supports). Drop off Tuesdays\, Wednesdays\, or Fridays 8 am-4:30 pm.\nEmbry Rucker Shelter 11975 Bowman Towne Drive\, Reston\, 703-437-1975. Leave donations on the table around the back. Drop off anytime!\n\nHere are some options for donating outside the DC area: \n\nNYC Community Fridges located throughout New York City.\nBread and Roses 58 Newbury St.\, Lawrence\, Mass.\, 978-681-8768. Drop off  Mondays-Thursdays\, 10 am-4 pm.\nThe Bristol Lodge 27 Lexington St.\, Waltham\, Mass.\, 781-893-0108. Drop off  Mondays-Fridays\, 9am-6pm.\nCommunity Refrigerators located in Los Angeles\n\nSee you in the KindSoup kitchen! \nLearn more about this KindWorks program \n 
URL:https://dokindworks.org/project/make-haitian-soupe-joumou-to-share-with-others/
LOCATION:Virtual Gathering\, United States
CATEGORIES:Cooking,Food Assistance,KindSoup
ATTACH;FMTTYPE=image/png:https://dokindworks.org/wp-content/uploads/2025/12/Soupe-JouMou-e1766106378622.png
GEO:37.09024;-95.712891
END:VEVENT
END:VCALENDAR