BEGIN:VCALENDAR
VERSION:2.0
PRODID:-//KindWorks - ECPv6.15.20//NONSGML v1.0//EN
CALSCALE:GREGORIAN
METHOD:PUBLISH
X-ORIGINAL-URL:https://dokindworks.org
X-WR-CALDESC:Events for KindWorks
REFRESH-INTERVAL;VALUE=DURATION:PT1H
X-Robots-Tag:noindex
X-PUBLISHED-TTL:PT1H
BEGIN:VTIMEZONE
TZID:America/New_York
BEGIN:DAYLIGHT
TZOFFSETFROM:-0500
TZOFFSETTO:-0400
TZNAME:EDT
DTSTART:20250309T070000
END:DAYLIGHT
BEGIN:STANDARD
TZOFFSETFROM:-0400
TZOFFSETTO:-0500
TZNAME:EST
DTSTART:20251102T060000
END:STANDARD
BEGIN:DAYLIGHT
TZOFFSETFROM:-0500
TZOFFSETTO:-0400
TZNAME:EDT
DTSTART:20260308T070000
END:DAYLIGHT
BEGIN:STANDARD
TZOFFSETFROM:-0400
TZOFFSETTO:-0500
TZNAME:EST
DTSTART:20261101T060000
END:STANDARD
BEGIN:DAYLIGHT
TZOFFSETFROM:-0500
TZOFFSETTO:-0400
TZNAME:EDT
DTSTART:20270314T070000
END:DAYLIGHT
BEGIN:STANDARD
TZOFFSETFROM:-0400
TZOFFSETTO:-0500
TZNAME:EST
DTSTART:20271107T060000
END:STANDARD
END:VTIMEZONE
BEGIN:VEVENT
DTSTART;VALUE=DATE:20260316
DTEND;VALUE=DATE:20260401
DTSTAMP:20260424T012941
CREATED:20251227T035529Z
LAST-MODIFIED:20251227T035625Z
UID:10005175-1773619200-1775001599@dokindworks.org
SUMMARY:Bake Casseroles & Banana Breads for So What Else
DESCRIPTION:Join our team in preparing nutritious and delicious casseroles and/or banana bread for the individuals served by So What Else in Rockville. \nWhen you sign up below\, you are committing to deliver four individual servings of a casserole or banana bread to the center  March 16th – 31st Monday-Friday between 7:00a m-4:00 pm or Saturdays between 5:00am- 3:00pm. You can sign up for additional slots to bring more\, but students seeking SSL hours should note MCPS’s daily limit in the guidelines below. \nOur recipe library has wonderful casserole suggestions\, but you are welcome to deliver any type of nutritious casserole you wish to make. You can substitute zucchini bread or any other healthier type of quick bread in place of banana bread. And if you need of a recipe\, we recommend this one for mini loaves of banana bread. Feel free to customize your breads with chocolate chips\, raisins\, etc. Whatever you make\, be sure to note any allergens in your ingredients on the label (details below). \nHealth and Safety Information\nIn order to protect the quality of your donation and our program\, we ask that volunteers conscientiously observe the following guidelines: \n\nStart with clean hands and wash again frequently as needed throughout the cooking process.\nStart with clean kitchen surfaces and utensils (antibacterial wipes do a great job).\nKeep longer hair tied back.\nFollow other common sense procedures\, such as never returning a tasting spoon to the pot!\n\nThank you for maintaining a high cleanliness standard for your donations! \nHow to Donate Your Meal Servings\nIndividually package up the number of servings you signed up to provide in small food containers with tight-fitting lids. You can buy containers at the grocery store\, or ask your friends and neighbors for their small take-out containers\, and they’ll be thrilled to put their extras to good use! \n\n\n\n\n\n\n\nLabel each container and freeze. (Use this template to print six-per-page KindWorks labels off your own printer.) Labels should include \n\ndate prepared\nyour first name and last initial\ntype of casserole or banana bread\nany relevant allergy or food preference info\n\n\n\n\nDeliver your frozen meals March 16th – 31st anytime Monday-Friday between 7:00a m-4:00 pm or Saturdays between 5:00am- 3:00pm\, to So What Else at (4924 Wyaconda Road\, Rockville\, MD). \nStudent Service Learning\nStudents who sign up in advance\, participate in this project\, and submit a completed KindWorks SSL Request Form can earn SSL hours at the following rate: \n\n4 single casserole servings = 2 SSL hours\n4 mini-loaves of quick bread = 2 SSL hours\n\nNote: MCPS allows no more than 8 SSL hours in a 24-hour period. \nSafety Reminder\nAs with all KindWorks projects\, when you register you do so with the understanding that volunteering may involve physical activity\, the handling of sharp objects and cooking apparatus\, the lifting of heavy objects\, contact with unidentified and unfamiliar persons\, and will require the exercise of reasonable care to avoid injury and/or damage\, and agree to assume any and all risks of personal injury or property damage. \nLearn more about this KindWorks program \n\nCasserole & Banana Bread Donations
URL:https://dokindworks.org/project/bake-casseroles-banana-breads-for-so-what-else-6/
LOCATION:So What Else\, 4924 Wyaconda Road\, Rockville\, 20852\, United States
CATEGORIES:Baking for Community,Cooking,Shelter Support
ATTACH;FMTTYPE=image/jpeg:https://dokindworks.org/wp-content/uploads/2022/10/sheri-silver-q5C-_coAZR4-unsplash-scaled.jpg
GEO:39.0437972;-77.0985556
X-APPLE-STRUCTURED-LOCATION;VALUE=URI;X-ADDRESS=So What Else 4924 Wyaconda Road Rockville 20852 United States;X-APPLE-RADIUS=500;X-TITLE=4924 Wyaconda Road:geo:-77.0985556,39.0437972
END:VEVENT
BEGIN:VEVENT
DTSTART;TZID=America/New_York:20260323T170000
DTEND;TZID=America/New_York:20260323T180000
DTSTAMP:20260424T012941
CREATED:20260121T022711Z
LAST-MODIFIED:20260122T081302Z
UID:10005184-1774285200-1774288800@dokindworks.org
SUMMARY:Make Broccoli\, Barley and Cannellini Bean Soup to Share With Others
DESCRIPTION:Join KindChef Carol to make a Broccoli\, Barley and Cannellini Bean Soup (based on this recipe from New York Times.) After completing your soup\, freeze and label it for donation\, then drop off at one of our participating food assistance providers\, with a person or family that is in your heart\, or anyplace that you prefer\, when convenient. Finally\, report on where you shared your KindSoup and spread the word: Post a picture or two of you and your soups on social media with #DoKindWorks and tag us @DoKindWorks. \nConnect to Zoom event \n\n\nBroccoli\, Barley and Cannellini Bean Soup\n\n\n\nIngredients\n\n1 cup pearl barley\nSalt\n3 heads of broccoli (about 3 pounds)\n½ cup extra-virgin olive oil\, plus more for serving\n4 ½ tablespoons chopped garlic\n3 cups cooked cannellini or other white beans (from 3 15-ounce cans)\, rinsed and drained\n3 beef bouillon (vegetable stock or bouillon) cubes or 3 teaspoons beef stock concentrate \nFreshly ground black pepper\n\nInstructions\n\n\nPut the barley in a large saucepan with enough water to cover by 3 inches and ½ teaspoon of salt. Bring to a slow\, steady simmer\, then cover\, and cook until the barley is fully tender\, 30 to 45 minutes. Drain\, saving the water in a large bowl for the soup.\nWhile the barley is cooking\, detach the florets and any small leaves from the broccoli. Peel the main stems and the florets’ stems. Rinse the broccoli well.\nFill a large soup pot with water and bring to a boil. Add 5 tablespoons salt and the thick\, main broccoli stems. (The salt is to keep the broccoli green and it will not make it too salty.) Cook for 7 or 8 minutes\, then add the florets. When the water returns to a boil\, cook for another 10 minutes or so\, then drain. Chop the broccoli rather fine and set aside.\nPut the olive oil and garlic in the soup pot\, turn on the heat to medium\, and cook\, stirring frequently\, just until the garlic turns a deep ivory\, about 1 ½ minutes.\nAdd the broccoli and cook for 2 or 3 minutes\, turning it over from time to time to coat it well. Add the cannellini beans and cooked barley and stir once or twice.\nAdd enough of the barley cooking water to cover by at least 2 inches\, using fresh water if you need more. Put in the bouillon cube and several grindings of pepper\, and stir for 15 or 20 seconds. Bring to a simmer and cook for about 5 minutes. Taste and correct for seasoning. Serve with a trickle of olive oil in each bowl.\n\n\n\nHealth and Safety Information\nIn order to protect the the quality of our KindSoup program\, we ask that volunteers conscientiously observe the following guidelines: \n\nStart with clean hands and wash again frequently as needed throughout the cooking process.\nStart with clean kitchen surfaces and utensils (antibacterial wipes do a great job).\nKeep longer hair tied back.\nFollow other common sense procedures\, such as never returning a tasting spoon to the pot!\n\nThank you for maintaining a high cleanliness standard for our KindSoup donations! \nHow to Donate Your KindSoup\nSeal containers with a tight lid and freeze. Label each container with: date prepared\, your first name and last initial\, “Broccoli\, Barley and Cannellini Bean Soup” and any relevant food allergy info. When convenient\, drop containers of frozen soup off at one of the following participating food assistance providers\, with a person or family that is in your heart\, or a place that you prefer. \n\nRainbow Community Development Center 12120 Tech Road\, Silver Spring (this takes you to the rear parking lot and loading dock – there is usually a large RAINBOW truck parked here): Drop-off Monday-Friday 9am-2pm. NOTE: If you go during Rainbow’s food distributions on Tuesdays/Thursdays from 9am-noon\, you may see a long line of cars – you can drive past the cars to drop off your KindSoup. If you go at other times and the garage or back door is not open\, call or text Anna on her personal cell at 301-852-4184 (if she doesn’t answer\, leave a message and she should get back within a few minutes\, or try calling the Rainbow Pantry cellphone: 240-639-2293).   \nSo What Else 4924 Wyaconda Road\, Rockville\, 240-705-4345. (Look for the Dogtopia. Drive straight past Doptopia to get to our parking lot. The entrance will be on the right hand side as you pull into the parking lot. After you park\, walk up to the glass door at the bottom of the black ramp\, ring the doorbell\, let the team know you’ve arrived to drop off KindSoups): Drop-off Tuesday-Friday 10am-4pm and Saturdays 7am-12pm.\nUpcounty Consolidation Hub 12900 Middlebrook Rd.\, Germantown (supporting 1\,000 families with food and other supports). Drop off Tuesdays\, Wednesdays\, or Fridays 8 am-4:30 pm.\nEmbry Rucker Shelter 11975 Bowman Towne Drive\, Reston\, 703-437-1975. Leave donations on the table around the back. Drop off anytime!\n\nHere are some options for donating outside the DC area: \n\nNYC Community Fridges located throughout New York City.\nBread and Roses 58 Newbury St.\, Lawrence\, Mass.\, 978-681-8768. Drop off  Mondays-Thursdays\, 10 am-4 pm.\nThe Bristol Lodge 27 Lexington St.\, Waltham\, Mass.\, 781-893-0108. Drop off  Mondays-Fridays\, 9am-6pm.\nCommunity Refrigerators located in Los Angeles\n\nSee you in the KindSoup kitchen! \nLearn more about this KindWorks program \n 
URL:https://dokindworks.org/project/make-broccoli-barley-and-cannellini-bean-soup-to-share-with-others/
LOCATION:Virtual Gathering\, United States
CATEGORIES:Cooking,Food Assistance,KindSoup
ATTACH;FMTTYPE=image/jpeg:https://dokindworks.org/wp-content/uploads/2026/01/Broccoli-Barley-and-Cannellini-Bean-Soup-e1768962500585.jpg
GEO:37.09024;-95.712891
END:VEVENT
END:VCALENDAR