BEGIN:VCALENDAR
VERSION:2.0
PRODID:-//KindWorks - ECPv6.15.20//NONSGML v1.0//EN
CALSCALE:GREGORIAN
METHOD:PUBLISH
X-WR-CALNAME:KindWorks
X-ORIGINAL-URL:https://dokindworks.org
X-WR-CALDESC:Events for KindWorks
REFRESH-INTERVAL;VALUE=DURATION:PT1H
X-Robots-Tag:noindex
X-PUBLISHED-TTL:PT1H
BEGIN:VTIMEZONE
TZID:America/New_York
BEGIN:DAYLIGHT
TZOFFSETFROM:-0500
TZOFFSETTO:-0400
TZNAME:EDT
DTSTART:20250309T070000
END:DAYLIGHT
BEGIN:STANDARD
TZOFFSETFROM:-0400
TZOFFSETTO:-0500
TZNAME:EST
DTSTART:20251102T060000
END:STANDARD
BEGIN:DAYLIGHT
TZOFFSETFROM:-0500
TZOFFSETTO:-0400
TZNAME:EDT
DTSTART:20260308T070000
END:DAYLIGHT
BEGIN:STANDARD
TZOFFSETFROM:-0400
TZOFFSETTO:-0500
TZNAME:EST
DTSTART:20261101T060000
END:STANDARD
BEGIN:DAYLIGHT
TZOFFSETFROM:-0500
TZOFFSETTO:-0400
TZNAME:EDT
DTSTART:20270314T070000
END:DAYLIGHT
BEGIN:STANDARD
TZOFFSETFROM:-0400
TZOFFSETTO:-0500
TZNAME:EST
DTSTART:20271107T060000
END:STANDARD
END:VTIMEZONE
BEGIN:VEVENT
DTSTART;VALUE=DATE:20260302
DTEND;VALUE=DATE:20260315
DTSTAMP:20260424T013354
CREATED:20251227T035257Z
LAST-MODIFIED:20260106T025103Z
UID:10005176-1772409600-1773532799@dokindworks.org
SUMMARY:Bake Casseroles & Banana Breads for So What Else
DESCRIPTION:Join our team in preparing nutritious and delicious casseroles and/or banana bread for the individuals served by So What Else in Rockville. \nWhen you sign up below\, you are committing to deliver four individual servings of a casserole or banana bread to the center March 2nd – 14th Monday-Friday between 7:00a m-4:00 pm or Saturdays between 5:00am- 3:00pm. You can sign up for additional slots to bring more\, but students seeking SSL hours should note MCPS’s daily limit in the guidelines below. \nOur recipe library has wonderful casserole suggestions\, but you are welcome to deliver any type of nutritious casserole you wish to make. You can substitute zucchini bread or any other healthier type of quick bread in place of banana bread. And if you need of a recipe\, we recommend this one for mini loaves of banana bread. Feel free to customize your breads with chocolate chips\, raisins\, etc. Whatever you make\, be sure to note any allergens in your ingredients on the label (details below). \nHealth and Safety Information\nIn order to protect the quality of your donation and our program\, we ask that volunteers conscientiously observe the following guidelines: \n\nStart with clean hands and wash again frequently as needed throughout the cooking process.\nStart with clean kitchen surfaces and utensils (antibacterial wipes do a great job).\nKeep longer hair tied back.\nFollow other common sense procedures\, such as never returning a tasting spoon to the pot!\n\nThank you for maintaining a high cleanliness standard for your donations! \nHow to Donate Your Meal Servings\nIndividually package up the number of servings you signed up to provide in small food containers with tight-fitting lids. You can buy containers at the grocery store\, or ask your friends and neighbors for their small take-out containers\, and they’ll be thrilled to put their extras to good use! \n\n\n\n\n\n\n\nLabel each container and freeze. (Use this template to print six-per-page KindWorks labels off your own printer.) Labels should include \n\ndate prepared\nyour first name and last initial\ntype of casserole or banana bread\nany relevant allergy or food preference info\n\n\n\n\nDeliver your frozen meals March 2nd – 14th anytime Monday-Friday between 7:00a m-4:00 pm or Saturdays between 5:00am- 3:00pm\, to So What Else at (4924 Wyaconda Road\, Rockville\, MD). \nStudent Service Learning\nStudents who sign up in advance\, participate in this project\, and submit a completed KindWorks SSL Request Form can earn SSL hours at the following rate: \n\n4 single casserole servings = 2 SSL hours\n4 mini-loaves of quick bread = 2 SSL hours\n\nNote: MCPS allows no more than 8 SSL hours in a 24-hour period. \nSafety Reminder\nAs with all KindWorks projects\, when you register you do so with the understanding that volunteering may involve physical activity\, the handling of sharp objects and cooking apparatus\, the lifting of heavy objects\, contact with unidentified and unfamiliar persons\, and will require the exercise of reasonable care to avoid injury and/or damage\, and agree to assume any and all risks of personal injury or property damage. \nLearn more about this KindWorks program \n\nCasserole & Banana Bread Donations
URL:https://dokindworks.org/project/bake-casseroles-banana-breads-for-so-what-else-5/
LOCATION:So What Else\, 4924 Wyaconda Road\, Rockville\, 20852\, United States
CATEGORIES:Baking for Community,Cooking,Shelter Support
ATTACH;FMTTYPE=image/jpeg:https://dokindworks.org/wp-content/uploads/2022/10/sheri-silver-q5C-_coAZR4-unsplash-scaled.jpg
GEO:39.0437972;-77.0985556
X-APPLE-STRUCTURED-LOCATION;VALUE=URI;X-ADDRESS=So What Else 4924 Wyaconda Road Rockville 20852 United States;X-APPLE-RADIUS=500;X-TITLE=4924 Wyaconda Road:geo:-77.0985556,39.0437972
END:VEVENT
BEGIN:VEVENT
DTSTART;TZID=America/New_York:20260302T170000
DTEND;TZID=America/New_York:20260302T180000
DTSTAMP:20260424T013354
CREATED:20260107T015032Z
LAST-MODIFIED:20260114T204557Z
UID:10005193-1772470800-1772474400@dokindworks.org
SUMMARY:Make Wonton Soup to Share With Others
DESCRIPTION:Join KindChef Alexa to make a Wonton Soup. After completing your soup\, freeze and label it for donation\, then drop off at one of our participating food assistance providers\, with a person or family that is in your heart\, or anyplace that you prefer\, when convenient. Finally\, report on where you shared your KindSoup and spread the word: Post a picture or two of you and your soups on social media with #DoKindWorks and tag us @DoKindWorks. \nConnect to Zoom event \n\n\nWonton Soup\n\n\n\nIngredients\n\n1/3 cup Oil \n32 oz Shiitake mushrooms \n3/4 cup low-sodium soy sauce\, divided \n8 cloves garlic\, minced \n24 cups low-sodium chicken or vegetable stock \n32 oz bok choy\, chopped \n4 inches fresh ginger\, peeled and grated \n12 cups pre-shredded carrots \n80 mini frozen wontons \n1/4 cup rice vinegar \n2 tablespoons lime juice \n2 tablespoons toasted sesame oil \n\nOptional for serving \n\n1/2 teaspoon sugar or honey \nChopped green onions (to taste)\nChili crisp\, chili oil\, or sriracha\n\nInstructions\n\n\nPlace a large stockpot or wok over medium heat. Add the oil and when it begins to shimmer\, add mushrooms. Saute until mushrooms are deep golden brown\, 5 to 7 minutes. Add 1/4 cup soy sauce and the garlic\, and cook for 2 minutes more.\nPour stock over mushrooms. Add bok choy\, shredded carrots\, and ginger.\nBring stock to a simmer. Simmer until vegetables are tender\, 4 to 5 minutes.\nAdd frozen wontons and cook until they float\, 2 to 3 minutes.\nStir in remaining 1/2 cup soy sauce\, rice vinegar\, lime juice\, toasted sesame oil\, and sugar.\nTaste the soup. If you’d like it more salty\, stir in some soy sauce. If you’d like it more tart\, stir in some more rice vinegar or lime juice.\nLadle soup into bowls. Top with green onions and chili crisp\, chili oil\, or Sriracha.\n\n\n\nHealth and Safety Information\nIn order to protect the the quality of our KindSoup program\, we ask that volunteers conscientiously observe the following guidelines: \n\nStart with clean hands and wash again frequently as needed throughout the cooking process.\nStart with clean kitchen surfaces and utensils (antibacterial wipes do a great job).\nKeep longer hair tied back.\nFollow other common sense procedures\, such as never returning a tasting spoon to the pot!\n\nThank you for maintaining a high cleanliness standard for our KindSoup donations! \nHow to Donate Your KindSoup\nSeal containers with a tight lid and freeze. Label each container with: date prepared\, your first name and last initial\, “Wonton Soup” and any relevant food allergy info. When convenient\, drop containers of frozen soup off at one of the following participating food assistance providers\, with a person or family that is in your heart\, or a place that you prefer. \n\nRainbow Community Development Center 12120 Tech Road\, Silver Spring (this takes you to the rear parking lot and loading dock – there is usually a large RAINBOW truck parked here): Drop-off Monday-Friday 9am-2pm. NOTE: If you go during Rainbow’s food distributions on Tuesdays/Thursdays from 9am-noon\, you may see a long line of cars – you can drive past the cars to drop off your KindSoup. If you go at other times and the garage or back door is not open\, call or text Anna on her personal cell at 301-852-4184 (if she doesn’t answer\, leave a message and she should get back within a few minutes\, or try calling the Rainbow Pantry cellphone: 240-639-2293).   \nSo What Else 4924 Wyaconda Road\, Rockville\, 240-705-4345. (Look for the Dogtopia. Drive straight past Doptopia to get to our parking lot. The entrance will be on the right hand side as you pull into the parking lot. After you park\, walk up to the glass door at the bottom of the black ramp\, ring the doorbell\, let the team know you’ve arrived to drop off KindSoups): Drop-off Tuesday-Friday 10am-4pm and Saturdays 7am-12pm.\nUpcounty Consolidation Hub 12900 Middlebrook Rd.\, Germantown (supporting 1\,000 families with food and other supports). Drop off Tuesdays\, Wednesdays\, or Fridays 8 am-4:30 pm.\nEmbry Rucker Shelter 11975 Bowman Towne Drive\, Reston\, 703-437-1975. Leave donations on the table around the back. Drop off anytime!\n\nHere are some options for donating outside the DC area: \n\nNYC Community Fridges located throughout New York City.\nBread and Roses 58 Newbury St.\, Lawrence\, Mass.\, 978-681-8768. Drop off  Mondays-Thursdays\, 10 am-4 pm.\nThe Bristol Lodge 27 Lexington St.\, Waltham\, Mass.\, 781-893-0108. Drop off  Mondays-Fridays\, 9am-6pm.\nCommunity Refrigerators located in Los Angeles\n\nSee you in the KindSoup kitchen! \nLearn more about this KindWorks program \n 
URL:https://dokindworks.org/project/make-wonton-soup-to-share-with-others/
LOCATION:Virtual Gathering\, United States
CATEGORIES:Cooking,Food Assistance,KindSoup
ATTACH;FMTTYPE=image/png:https://dokindworks.org/wp-content/uploads/2023/09/WontonSoup-e1706543930948.png
GEO:37.09024;-95.712891
END:VEVENT
END:VCALENDAR