BEGIN:VCALENDAR
VERSION:2.0
PRODID:-//KindWorks - ECPv6.15.20//NONSGML v1.0//EN
CALSCALE:GREGORIAN
METHOD:PUBLISH
X-WR-CALNAME:KindWorks
X-ORIGINAL-URL:https://dokindworks.org
X-WR-CALDESC:Events for KindWorks
REFRESH-INTERVAL;VALUE=DURATION:PT1H
X-Robots-Tag:noindex
X-PUBLISHED-TTL:PT1H
BEGIN:VTIMEZONE
TZID:America/New_York
BEGIN:DAYLIGHT
TZOFFSETFROM:-0500
TZOFFSETTO:-0400
TZNAME:EDT
DTSTART:20240310T070000
END:DAYLIGHT
BEGIN:STANDARD
TZOFFSETFROM:-0400
TZOFFSETTO:-0500
TZNAME:EST
DTSTART:20241103T060000
END:STANDARD
BEGIN:DAYLIGHT
TZOFFSETFROM:-0500
TZOFFSETTO:-0400
TZNAME:EDT
DTSTART:20250309T070000
END:DAYLIGHT
BEGIN:STANDARD
TZOFFSETFROM:-0400
TZOFFSETTO:-0500
TZNAME:EST
DTSTART:20251102T060000
END:STANDARD
BEGIN:DAYLIGHT
TZOFFSETFROM:-0500
TZOFFSETTO:-0400
TZNAME:EDT
DTSTART:20260308T070000
END:DAYLIGHT
BEGIN:STANDARD
TZOFFSETFROM:-0400
TZOFFSETTO:-0500
TZNAME:EST
DTSTART:20261101T060000
END:STANDARD
END:VTIMEZONE
BEGIN:VEVENT
DTSTART;TZID=America/New_York:20251108T100000
DTEND;TZID=America/New_York:20251108T120000
DTSTAMP:20260425T065528
CREATED:20250205T174417Z
LAST-MODIFIED:20250717T221335Z
UID:10004987-1762596000-1762603200@dokindworks.org
SUMMARY:Clean Up Along Wisteria Drive
DESCRIPTION:Join forces with other volunteers to clean up Wisteria Drive in Germantown\, one of the area roads KindWorks has “adopted.” We will be picking up litter and recyclables along Wisteria between Germantown Road and Great Seneca Highway.  \n \nSo grab a friend or two and join us to have fun and enjoy the fresh air while helping the environment! We meet in the parking lot in front of the Mid-Atlantic Federal Credit Union and set out from there. Kindly note that gloves and trash pickers will be available on a limited first come first serve basis\, so please bring your own if you have any.\n \nStudent Service Learning\nStudents can earn SSL hours for participation. \nSafety Reminder\nAs with all KindWorks projects\, when you register you do so with the understanding that volunteering may involve physical activity\, the handling of sharp objects and cooking apparatus\, the lifting of heavy objects\, contact with unidentified and unfamiliar persons\, and will require the exercise of reasonable care to avoid injury and/or damage\, and agree to assume any and all risks of personal injury or property damage. \n  \nLearn more about this KindWorks program \n  \n\nGermantown Cleanup
URL:https://dokindworks.org/project/clean-up-along-wisteria-drive-15/
LOCATION:Parking Lot at Mid-Atlantic Federal Credit Union\, 12820 Wisteria Drive\, Germantown\, MD\, United States
CATEGORIES:Adopt-a-Road,Environment
ATTACH;FMTTYPE=image/jpeg:https://dokindworks.org/wp-content/uploads/2022/11/cleanup-near-school-16x9-1.jpg
GEO:39.1763545;-77.2699237
X-APPLE-STRUCTURED-LOCATION;VALUE=URI;X-ADDRESS=Parking Lot at Mid-Atlantic Federal Credit Union 12820 Wisteria Drive Germantown MD United States;X-APPLE-RADIUS=500;X-TITLE=12820 Wisteria Drive:geo:-77.2699237,39.1763545
END:VEVENT
BEGIN:VEVENT
DTSTART;TZID=America/New_York:20250927T100000
DTEND;TZID=America/New_York:20250927T120000
DTSTAMP:20260425T065529
CREATED:20250205T174128Z
LAST-MODIFIED:20250731T235654Z
UID:10004986-1758967200-1758974400@dokindworks.org
SUMMARY:Clean Up Along Wisteria Drive
DESCRIPTION:Join forces with other volunteers to clean up Wisteria Drive in Germantown\, one of the area roads KindWorks has “adopted.” We will be picking up litter and recyclables along Wisteria between Germantown Road and Great Seneca Highway.  \n \nSo grab a friend or two and join us to have fun and enjoy the fresh air while helping the environment! We meet in the parking lot in front of the Mid-Atlantic Federal Credit Union and set out from there. Kindly note that gloves and trash pickers will be available on a limited first come first serve basis\, so please bring your own if you have any.\n \nStudent Service Learning\nStudents can earn SSL hours for participation. \nSafety Reminder\nAs with all KindWorks projects\, when you register you do so with the understanding that volunteering may involve physical activity\, the handling of sharp objects and cooking apparatus\, the lifting of heavy objects\, contact with unidentified and unfamiliar persons\, and will require the exercise of reasonable care to avoid injury and/or damage\, and agree to assume any and all risks of personal injury or property damage. \n  \nLearn more about this KindWorks program \n  \n\nGermantown Cleanup
URL:https://dokindworks.org/project/clean-up-along-wisteria-drive-14/
LOCATION:Parking Lot at Mid-Atlantic Federal Credit Union\, 12820 Wisteria Drive\, Germantown\, MD\, United States
CATEGORIES:Adopt-a-Road,Environment
ATTACH;FMTTYPE=image/jpeg:https://dokindworks.org/wp-content/uploads/2022/11/cleanup-near-school-16x9-1.jpg
GEO:39.1763545;-77.2699237
X-APPLE-STRUCTURED-LOCATION;VALUE=URI;X-ADDRESS=Parking Lot at Mid-Atlantic Federal Credit Union 12820 Wisteria Drive Germantown MD United States;X-APPLE-RADIUS=500;X-TITLE=12820 Wisteria Drive:geo:-77.2699237,39.1763545
END:VEVENT
BEGIN:VEVENT
DTSTART;TZID=America/New_York:20250920T100000
DTEND;TZID=America/New_York:20250920T120000
DTSTAMP:20260425T065529
CREATED:20250902T175607Z
LAST-MODIFIED:20250902T175607Z
UID:10005132-1758362400-1758369600@dokindworks.org
SUMMARY:Clean Up Sangamore Road & Surrounding Area
DESCRIPTION:Join forces with other volunteers to clean up Sangamore Road in Bethesda\, one of the area roads that KindWorks has “adopted.” We’ll work alongside the Little Falls Watershed Alliance to remove invasive weeds. You can choose to pick up litter along the road or to clear away some of the invasive weeds that are strangling the plants in the surrounding neighborhood parkland. (Don’t worry–we’ll get instruction on what to pull before we start.)\n \nSo grab a friend or two and join us to have fun and enjoy the fresh air while helping the environment! We meet at the Starbucks\, set out from there\, and then finish up back at the Starbucks.\n \nStudent Service Learning\nStudents can earn SSL hours. \nSafety Reminder\nAs with all KindWorks projects\, when you register you do so with the understanding that volunteering may involve physical activity\, the handling of sharp objects and cooking apparatus\, the lifting of heavy objects\, contact with unidentified and unfamiliar persons\, and will require the exercise of reasonable care to avoid injury and/or damage\, and agree to assume any and all risks of personal injury or property damage. \n  \nLearn more about this KindWorks program \n  \n\nBethesda Cleanup
URL:https://dokindworks.org/project/clean-up-sangamore-road-surrounding-area-4/
LOCATION:Starbucks on Sangamore\, 4611-E Sangamore Road\, Bethesda\, MD\, United States
CATEGORIES:Adopt-a-Road,Environment
ATTACH;FMTTYPE=image/jpeg:https://dokindworks.org/wp-content/uploads/2022/11/sangamore-cleanup-2019-16x9-1.jpg
GEO:38.9499697;-77.1193925
X-APPLE-STRUCTURED-LOCATION;VALUE=URI;X-ADDRESS=Starbucks on Sangamore 4611-E Sangamore Road Bethesda MD United States;X-APPLE-RADIUS=500;X-TITLE=4611-E Sangamore Road:geo:-77.1193925,38.9499697
END:VEVENT
BEGIN:VEVENT
DTSTART;TZID=America/New_York:20250712T100000
DTEND;TZID=America/New_York:20250712T120000
DTSTAMP:20260425T065529
CREATED:20250205T172600Z
LAST-MODIFIED:20250205T172600Z
UID:10004985-1752314400-1752321600@dokindworks.org
SUMMARY:Clean Up Along Wisteria Drive
DESCRIPTION:Join forces with other volunteers to clean up Wisteria Drive in Germantown\, one of the area roads KindWorks has “adopted.” We will be picking up litter and recyclables along Wisteria between Germantown Road and Great Seneca Highway.  \n \nSo grab a friend or two and join us to have fun and enjoy the fresh air while helping the environment! We meet in the parking lot in front of the Mid-Atlantic Federal Credit Union and set out from there.\n \nStudent Service Learning\nStudents can earn SSL hours for participation. \nSafety Reminder\nAs with all KindWorks projects\, when you register you do so with the understanding that volunteering may involve physical activity\, the handling of sharp objects and cooking apparatus\, the lifting of heavy objects\, contact with unidentified and unfamiliar persons\, and will require the exercise of reasonable care to avoid injury and/or damage\, and agree to assume any and all risks of personal injury or property damage. \n  \nLearn more about this KindWorks program \n  \n\nGermantown Cleanup
URL:https://dokindworks.org/project/clean-up-along-wisteria-drive-4/
LOCATION:Parking Lot at Mid-Atlantic Federal Credit Union\, 12820 Wisteria Drive\, Germantown\, MD\, United States
CATEGORIES:Adopt-a-Road,Environment
ATTACH;FMTTYPE=image/jpeg:https://dokindworks.org/wp-content/uploads/2022/11/cleanup-near-school-16x9-1.jpg
GEO:39.1763545;-77.2699237
X-APPLE-STRUCTURED-LOCATION;VALUE=URI;X-ADDRESS=Parking Lot at Mid-Atlantic Federal Credit Union 12820 Wisteria Drive Germantown MD United States;X-APPLE-RADIUS=500;X-TITLE=12820 Wisteria Drive:geo:-77.2699237,39.1763545
END:VEVENT
BEGIN:VEVENT
DTSTART;TZID=America/New_York:20250531T100000
DTEND;TZID=America/New_York:20250531T120000
DTSTAMP:20260425T065529
CREATED:20250205T172351Z
LAST-MODIFIED:20250501T222011Z
UID:10004984-1748685600-1748692800@dokindworks.org
SUMMARY:Clean Up Along Wisteria Drive
DESCRIPTION:Join forces with other volunteers to clean up Wisteria Drive in Germantown\, one of the area roads KindWorks has “adopted.” We will be picking up litter and recyclables along Wisteria between Germantown Road and Great Seneca Highway.  \n \nSo grab a friend or two and join us to have fun and enjoy the fresh air while helping the environment! We meet in the parking lot in front of the Mid-Atlantic Federal Credit Union and set out from there.\n \nStudent Service Learning\nStudents can earn SSL hours for participation. \nSafety Reminder\nAs with all KindWorks projects\, when you register you do so with the understanding that volunteering may involve physical activity\, the handling of sharp objects and cooking apparatus\, the lifting of heavy objects\, contact with unidentified and unfamiliar persons\, and will require the exercise of reasonable care to avoid injury and/or damage\, and agree to assume any and all risks of personal injury or property damage. \n  \nLearn more about this KindWorks program \n  \n\nGermantown Cleanup
URL:https://dokindworks.org/project/clean-up-along-wisteria-drive-3/
LOCATION:Parking Lot at Mid-Atlantic Federal Credit Union\, 12820 Wisteria Drive\, Germantown\, MD\, United States
CATEGORIES:Adopt-a-Road,Environment
ATTACH;FMTTYPE=image/jpeg:https://dokindworks.org/wp-content/uploads/2022/11/cleanup-near-school-16x9-1.jpg
GEO:39.1763545;-77.2699237
X-APPLE-STRUCTURED-LOCATION;VALUE=URI;X-ADDRESS=Parking Lot at Mid-Atlantic Federal Credit Union 12820 Wisteria Drive Germantown MD United States;X-APPLE-RADIUS=500;X-TITLE=12820 Wisteria Drive:geo:-77.2699237,39.1763545
END:VEVENT
BEGIN:VEVENT
DTSTART;TZID=America/New_York:20250517T100000
DTEND;TZID=America/New_York:20250517T120000
DTSTAMP:20260425T065529
CREATED:20250415T195203Z
LAST-MODIFIED:20250415T195246Z
UID:10005031-1747476000-1747483200@dokindworks.org
SUMMARY:Clean Up Sangamore Road & Surrounding Area
DESCRIPTION:Join forces with other volunteers to clean up Sangamore Road in Bethesda\, one of the area roads that KindWorks has “adopted.” We’ll work alongside the Little Falls Watershed Alliance to remove invasive weeds. You can choose to pick up litter along the road or to clear away some of the invasive weeds that are strangling the plants in the surrounding neighborhood parkland. (Don’t worry–we’ll get instruction on what to pull before we start.)\n \nSo grab a friend or two and join us to have fun and enjoy the fresh air while helping the environment! We meet at the Starbucks\, set out from there\, and then finish up back at the Starbucks.\n \nStudent Service Learning\nStudents can earn SSL hours. \nSafety Reminder\nAs with all KindWorks projects\, when you register you do so with the understanding that volunteering may involve physical activity\, the handling of sharp objects and cooking apparatus\, the lifting of heavy objects\, contact with unidentified and unfamiliar persons\, and will require the exercise of reasonable care to avoid injury and/or damage\, and agree to assume any and all risks of personal injury or property damage. \n  \nLearn more about this KindWorks program \n  \n\nBethesda Cleanup
URL:https://dokindworks.org/project/clean-up-sangamore-road-surrounding-area-3/
LOCATION:Starbucks on Sangamore\, 4611-E Sangamore Road\, Bethesda\, MD\, United States
CATEGORIES:Adopt-a-Road,Environment
ATTACH;FMTTYPE=image/jpeg:https://dokindworks.org/wp-content/uploads/2022/11/sangamore-cleanup-2019-16x9-1.jpg
GEO:38.9499697;-77.1193925
X-APPLE-STRUCTURED-LOCATION;VALUE=URI;X-ADDRESS=Starbucks on Sangamore 4611-E Sangamore Road Bethesda MD United States;X-APPLE-RADIUS=500;X-TITLE=4611-E Sangamore Road:geo:-77.1193925,38.9499697
END:VEVENT
END:VCALENDAR