BEGIN:VCALENDAR
VERSION:2.0
PRODID:-//KindWorks - ECPv6.15.20//NONSGML v1.0//EN
CALSCALE:GREGORIAN
METHOD:PUBLISH
X-ORIGINAL-URL:https://dokindworks.org
X-WR-CALDESC:Events for KindWorks
REFRESH-INTERVAL;VALUE=DURATION:PT1H
X-Robots-Tag:noindex
X-PUBLISHED-TTL:PT1H
BEGIN:VTIMEZONE
TZID:America/New_York
BEGIN:DAYLIGHT
TZOFFSETFROM:-0500
TZOFFSETTO:-0400
TZNAME:EDT
DTSTART:20250309T070000
END:DAYLIGHT
BEGIN:STANDARD
TZOFFSETFROM:-0400
TZOFFSETTO:-0500
TZNAME:EST
DTSTART:20251102T060000
END:STANDARD
BEGIN:DAYLIGHT
TZOFFSETFROM:-0500
TZOFFSETTO:-0400
TZNAME:EDT
DTSTART:20260308T070000
END:DAYLIGHT
BEGIN:STANDARD
TZOFFSETFROM:-0400
TZOFFSETTO:-0500
TZNAME:EST
DTSTART:20261101T060000
END:STANDARD
BEGIN:DAYLIGHT
TZOFFSETFROM:-0500
TZOFFSETTO:-0400
TZNAME:EDT
DTSTART:20270314T070000
END:DAYLIGHT
BEGIN:STANDARD
TZOFFSETFROM:-0400
TZOFFSETTO:-0500
TZNAME:EST
DTSTART:20271107T060000
END:STANDARD
END:VTIMEZONE
BEGIN:VEVENT
DTSTART;TZID=America/New_York:20260530T100000
DTEND;TZID=America/New_York:20260530T120000
DTSTAMP:20260425T124314
CREATED:20260226T023427Z
LAST-MODIFIED:20260326T011440Z
UID:10005269-1780135200-1780142400@dokindworks.org
SUMMARY:Clean Up Along Wisteria Drive
DESCRIPTION:Join forces with other volunteers to clean up Wisteria Drive in Germantown\, one of the area roads KindWorks has “adopted.” We will be picking up litter and recyclables along Wisteria between Germantown Road and Great Seneca Highway.  \n \nSo grab a friend or two and join us to have fun and enjoy the fresh air while helping the environment! We meet in the parking lot in front of the Mid-Atlantic Federal Credit Union and set out from there. Kindly note that gloves and trash pickers will be available on a limited first come first serve basis\, so please bring your own if you have any.\n \nStudent Service Learning\nStudents can earn SSL hours for participation. \nSafety Reminder\nAs with all KindWorks projects\, when you register you do so with the understanding that volunteering may involve physical activity\, the handling of sharp objects and cooking apparatus\, the lifting of heavy objects\, contact with unidentified and unfamiliar persons\, and will require the exercise of reasonable care to avoid injury and/or damage\, and agree to assume any and all risks of personal injury or property damage. \n  \nLearn more about this KindWorks program \n  \n\nGermantown Cleanup
URL:https://dokindworks.org/project/clean-up-along-wisteria-drive-2/
LOCATION:Parking Lot at Mid-Atlantic Federal Credit Union\, 12820 Wisteria Drive\, Germantown\, MD\, United States
CATEGORIES:Adopt-a-Road,Environment
ATTACH;FMTTYPE=image/jpeg:https://dokindworks.org/wp-content/uploads/2022/11/cleanup-near-school-16x9-1.jpg
GEO:39.1763545;-77.2699237
X-APPLE-STRUCTURED-LOCATION;VALUE=URI;X-ADDRESS=Parking Lot at Mid-Atlantic Federal Credit Union 12820 Wisteria Drive Germantown MD United States;X-APPLE-RADIUS=500;X-TITLE=12820 Wisteria Drive:geo:-77.2699237,39.1763545
END:VEVENT
END:VCALENDAR