BEGIN:VCALENDAR
VERSION:2.0
PRODID:-//KindWorks - ECPv6.15.20//NONSGML v1.0//EN
CALSCALE:GREGORIAN
METHOD:PUBLISH
X-ORIGINAL-URL:https://dokindworks.org
X-WR-CALDESC:Events for KindWorks
REFRESH-INTERVAL;VALUE=DURATION:PT1H
X-Robots-Tag:noindex
X-PUBLISHED-TTL:PT1H
BEGIN:VTIMEZONE
TZID:America/New_York
BEGIN:DAYLIGHT
TZOFFSETFROM:-0500
TZOFFSETTO:-0400
TZNAME:EDT
DTSTART:20250309T070000
END:DAYLIGHT
BEGIN:STANDARD
TZOFFSETFROM:-0400
TZOFFSETTO:-0500
TZNAME:EST
DTSTART:20251102T060000
END:STANDARD
BEGIN:DAYLIGHT
TZOFFSETFROM:-0500
TZOFFSETTO:-0400
TZNAME:EDT
DTSTART:20260308T070000
END:DAYLIGHT
BEGIN:STANDARD
TZOFFSETFROM:-0400
TZOFFSETTO:-0500
TZNAME:EST
DTSTART:20261101T060000
END:STANDARD
BEGIN:DAYLIGHT
TZOFFSETFROM:-0500
TZOFFSETTO:-0400
TZNAME:EDT
DTSTART:20270314T070000
END:DAYLIGHT
BEGIN:STANDARD
TZOFFSETFROM:-0400
TZOFFSETTO:-0500
TZNAME:EST
DTSTART:20271107T060000
END:STANDARD
END:VTIMEZONE
BEGIN:VEVENT
DTSTART;VALUE=DATE:20260501
DTEND;VALUE=DATE:20260516
DTSTAMP:20260424T044909
CREATED:20251227T040836Z
LAST-MODIFIED:20251227T040836Z
UID:10005181-1777593600-1778889599@dokindworks.org
SUMMARY:Bake Casseroles & Banana Breads for So What Else
DESCRIPTION:Join our team in preparing nutritious and delicious casseroles and/or banana bread for the individuals served by So What Else in Rockville. \nWhen you sign up below\, you are committing to deliver four individual servings of a casserole or banana bread to the center May 1st – 15th Monday-Friday between 7:00a m-4:00 pm or Saturdays between 5:00am- 3:00pm. You can sign up for additional slots to bring more\, but students seeking SSL hours should note MCPS’s daily limit in the guidelines below. \nOur recipe library has wonderful casserole suggestions\, but you are welcome to deliver any type of nutritious casserole you wish to make. You can substitute zucchini bread or any other healthier type of quick bread in place of banana bread. And if you need of a recipe\, we recommend this one for mini loaves of banana bread. Feel free to customize your breads with chocolate chips\, raisins\, etc. Whatever you make\, be sure to note any allergens in your ingredients on the label (details below). \nHealth and Safety Information\nIn order to protect the quality of your donation and our program\, we ask that volunteers conscientiously observe the following guidelines: \n\nStart with clean hands and wash again frequently as needed throughout the cooking process.\nStart with clean kitchen surfaces and utensils (antibacterial wipes do a great job).\nKeep longer hair tied back.\nFollow other common sense procedures\, such as never returning a tasting spoon to the pot!\n\nThank you for maintaining a high cleanliness standard for your donations! \nHow to Donate Your Meal Servings\nIndividually package up the number of servings you signed up to provide in small food containers with tight-fitting lids. You can buy containers at the grocery store\, or ask your friends and neighbors for their small take-out containers\, and they’ll be thrilled to put their extras to good use! \n\n\n\n\n\n\n\nLabel each container and freeze. (Use this template to print six-per-page KindWorks labels off your own printer.) Labels should include \n\ndate prepared\nyour first name and last initial\ntype of casserole or banana bread\nany relevant allergy or food preference info\n\n\n\n\nDeliver your frozen meals May 1st – 15th anytime Monday-Friday between 7:00a m-4:00 pm or Saturdays between 5:00am- 3:00pm\, to So What Else at (4924 Wyaconda Road\, Rockville\, MD). \nStudent Service Learning\nStudents who sign up in advance\, participate in this project\, and submit a completed KindWorks SSL Request Form can earn SSL hours at the following rate: \n\n4 single casserole servings = 2 SSL hours\n4 mini-loaves of quick bread = 2 SSL hours\n\nNote: MCPS allows no more than 8 SSL hours in a 24-hour period. \nSafety Reminder\nAs with all KindWorks projects\, when you register you do so with the understanding that volunteering may involve physical activity\, the handling of sharp objects and cooking apparatus\, the lifting of heavy objects\, contact with unidentified and unfamiliar persons\, and will require the exercise of reasonable care to avoid injury and/or damage\, and agree to assume any and all risks of personal injury or property damage. \nLearn more about this KindWorks program \n\nCasserole & Banana Bread Donations
URL:https://dokindworks.org/project/bake-casseroles-banana-breads-for-so-what-else-8/
LOCATION:So What Else\, 4924 Wyaconda Road\, Rockville\, 20852\, United States
CATEGORIES:Baking for Community,Cooking,Shelter Support
ATTACH;FMTTYPE=image/jpeg:https://dokindworks.org/wp-content/uploads/2022/10/sheri-silver-q5C-_coAZR4-unsplash-scaled.jpg
GEO:39.0437972;-77.0985556
X-APPLE-STRUCTURED-LOCATION;VALUE=URI;X-ADDRESS=So What Else 4924 Wyaconda Road Rockville 20852 United States;X-APPLE-RADIUS=500;X-TITLE=4924 Wyaconda Road:geo:-77.0985556,39.0437972
END:VEVENT
BEGIN:VEVENT
DTSTART;TZID=America/New_York:20260504T130000
DTEND;TZID=America/New_York:20260504T170000
DTSTAMP:20260424T044909
CREATED:20260316T143636Z
LAST-MODIFIED:20260316T143636Z
UID:10005286-1777899600-1777914000@dokindworks.org
SUMMARY:Sort and Pack Summer Fun Stuff Donations
DESCRIPTION:Help sort and pack Summer Fun Sacks for children in our area. All donations will be stored\, sorted\, and packed at the Bender Jewish Community Center (6125 Montrose Road). Kindly sign up for the 1pm-3pm shift and/or the 3pm-5pm shift.  \nMore dates to come. Please check back. \nStudent Service Learning\nHigh School Students can earn SSL hours for participation. \nSafety Reminder\nAs with all KindWorks projects\, when you register you do so with the understanding that volunteering may involve physical activity\, the handling of sharp objects and cooking apparatus\, the lifting of heavy objects\, contact with unidentified and unfamiliar persons\, and will require the exercise of reasonable care to avoid injury and/or damage\, and agree to assume any and all risks of personal injury or property damage. \nLearn more about this KindWorks program \n\nSFS Sorting/Packing\n\n\n\n    \n    \n          \n 
URL:https://dokindworks.org/project/sort-and-pack-summer-fun-stuff-donations-8/
LOCATION:Bender JCC\, JCC\, 6125 Montrose Road\, Rockville\, 20852
CATEGORIES:Summer Fun Stuff
ATTACH;FMTTYPE=image/jpeg:https://dokindworks.org/wp-content/uploads/2025/03/SFS.jpeg
GEO:39.0534384;-77.1246265
X-APPLE-STRUCTURED-LOCATION;VALUE=URI;X-ADDRESS=Bender JCC JCC 6125 Montrose Road Rockville 20852;X-APPLE-RADIUS=500;X-TITLE=JCC\, 6125 Montrose Road:geo:-77.1246265,39.0534384
END:VEVENT
BEGIN:VEVENT
DTSTART;TZID=America/New_York:20260504T170000
DTEND;TZID=America/New_York:20260504T180000
DTSTAMP:20260424T044909
CREATED:20260328T190057Z
LAST-MODIFIED:20260328T190057Z
UID:10005293-1777914000-1777917600@dokindworks.org
SUMMARY:Make Chickpea Avgolemono to Share With Others
DESCRIPTION:Join KindChef Alexa to make a Chickpea Avgolemono (based on this recipe from the Washington Post.) After completing your soup\, freeze and label it for donation\, then drop off at one of our participating food assistance providers\, with a person or family that is in your heart\, or anyplace that you prefer\, when convenient. Finally\, report on where you shared your KindSoup and spread the word: Post a picture or two of you and your soups on social media with #DoKindWorks and tag us @DoKindWorks. \nConnect to Zoom event \n\n\nChickpea Avgolemono\n\n\n\nIngredients\n\n8 tablespoons olive oil\n4 medium yellow onions\n8-9 celery stalks\, diced\n4 medium parsnips\, peeled and diced\n2 teaspoons fine salt\, plus more as needed\n1 teaspoon freshly ground black pepper\, plus more as needed\n4 (15-ounce) cans chickpeas\, (preferably no-salt-added)\, drained and rinsed\n8 tablespoons chopped fresh dill\, plus more for optional garnish\n24 cups (6 quarts) low-sodium chicken or vegetable broth\n2-3 cups dried orzo pasta\n8 large eggs\n12 tablespoons fresh lemon juice (from 4-6 lemons)\, plus more as needed\n4 cups (20 ounces) frozen peas (no need to defrost\n\nSubstitutions \n\nYellow onion >> white onion.\nParsnip >> carrot.\nFresh dill >> 2 teaspoons dried dill.\nCanned chickpeas >> 1 1/2 cups home-cooked chickpeas.\nOrzo >> other small pasta shape\, or rice.\nGluten-free? >> Use gluten-free orzo or pasta\, or rice\n\nInstructions\n\n\nIn a large Dutch oven over medium heat\, heat the oil until shimmering. Add the onion\, celery\, parsnips\, salt and pepper\, and cook\, stirring occasionally\, until the vegetables are tender\, about 5 minutes. Stir in the chickpeas and the dill. Add the broth\, increase the heat to medium-high and bring to a boil\, then reduce the heat to medium-low and simmer for 15 minutes. Remove about 1.5-2 cups of the hot broth from the pot\, being sure to leave behind\nthe vegetables\, and transfer to a liquid measuring cup. Stir the orzo into the pot and simmer until it is tender\, about 10 minutes.\nWhile the orzo cooks\, in a medium bowl\, beat the eggs. Gradually whisk the lemon juice into the eggs\, then\, whisking constantly\, gradually add the hot broth.\nOnce the orzo is tender\, add the peas to the pot\, then gradually stir the egg mixture into the soup. Cook\, stirring constantly\, until the soup thickens and is steaming hot but not boiling. Season with more salt\, pepper and lemon juice\, as desired. When ready to serve\, ladle the soup into bowls and garnish with fresh dill\, if desired.\n \n\n\n\nHealth and Safety Information\nIn order to protect the the quality of our KindSoup program\, we ask that volunteers conscientiously observe the following guidelines: \n\nStart with clean hands and wash again frequently as needed throughout the cooking process.\nStart with clean kitchen surfaces and utensils (antibacterial wipes do a great job).\nKeep longer hair tied back.\nFollow other common sense procedures\, such as never returning a tasting spoon to the pot!\n\nThank you for maintaining a high cleanliness standard for our KindSoup donations! \nHow to Donate Your KindSoup\nSeal containers with a tight lid and freeze. Label each container with: date prepared\, your first name and last initial\, “Chickpea Avgolemono” and any relevant food allergy info. When convenient\, drop containers of frozen soup off at one of the following participating food assistance providers\, with a person or family that is in your heart\, or a place that you prefer. \n\nRainbow Community Development Center 12120 Tech Road\, Silver Spring (this takes you to the rear parking lot and loading dock – there is usually a large RAINBOW truck parked here): Drop-off Monday-Friday 9am-2pm. NOTE: If you go during Rainbow’s food distributions on Tuesdays/Thursdays from 9am-noon\, you may see a long line of cars – you can drive past the cars to drop off your KindSoup. If you go at other times and the garage or back door is not open\, call or text Anna on her personal cell at 301-852-4184 (if she doesn’t answer\, leave a message and she should get back within a few minutes\, or try calling the Rainbow Pantry cellphone: 240-639-2293).   \nSo What Else 4924 Wyaconda Road\, Rockville\, 240-705-4345. (Look for the Dogtopia. Drive straight past Doptopia to get to our parking lot. The entrance will be on the right hand side as you pull into the parking lot. After you park\, walk up to the glass door at the bottom of the black ramp\, ring the doorbell\, let the team know you’ve arrived to drop off KindSoups): Drop-off Tuesday-Friday 10am-4pm and Saturdays 7am-12pm.\nUpcounty Consolidation Hub 12900 Middlebrook Rd.\, Germantown (supporting 1\,000 families with food and other supports). Drop off Tuesdays\, Wednesdays\, or Fridays 8 am-4:30 pm.\nEmbry Rucker Shelter 11975 Bowman Towne Drive\, Reston\, 703-437-1975. Leave donations on the table around the back. Drop off anytime!\n\nHere are some options for donating outside the DC area: \n\nNYC Community Fridges located throughout New York City.\nBread and Roses 58 Newbury St.\, Lawrence\, Mass.\, 978-681-8768. Drop off  Mondays-Thursdays\, 10 am-4 pm.\nThe Bristol Lodge 27 Lexington St.\, Waltham\, Mass.\, 781-893-0108. Drop off  Mondays-Fridays\, 9am-6pm.\nCommunity Refrigerators located in Los Angeles\n\nSee you in the KindSoup kitchen! \nLearn more about this KindWorks program \n 
URL:https://dokindworks.org/project/make-chickpea-avgolemono-to-share-with-others/
LOCATION:Virtual Gathering\, United States
CATEGORIES:Cooking,Food Assistance,KindSoup
ATTACH;FMTTYPE=image/jpeg:https://dokindworks.org/wp-content/uploads/2026/03/Avgolemono-Chickpea-soup-e1774724231798.jpeg
GEO:37.09024;-95.712891
END:VEVENT
END:VCALENDAR