BEGIN:VCALENDAR
VERSION:2.0
PRODID:-//KindWorks - ECPv6.15.20//NONSGML v1.0//EN
CALSCALE:GREGORIAN
METHOD:PUBLISH
X-WR-CALNAME:KindWorks
X-ORIGINAL-URL:https://dokindworks.org
X-WR-CALDESC:Events for KindWorks
REFRESH-INTERVAL;VALUE=DURATION:PT1H
X-Robots-Tag:noindex
X-PUBLISHED-TTL:PT1H
BEGIN:VTIMEZONE
TZID:America/New_York
BEGIN:DAYLIGHT
TZOFFSETFROM:-0500
TZOFFSETTO:-0400
TZNAME:EDT
DTSTART:20250309T070000
END:DAYLIGHT
BEGIN:STANDARD
TZOFFSETFROM:-0400
TZOFFSETTO:-0500
TZNAME:EST
DTSTART:20251102T060000
END:STANDARD
BEGIN:DAYLIGHT
TZOFFSETFROM:-0500
TZOFFSETTO:-0400
TZNAME:EDT
DTSTART:20260308T070000
END:DAYLIGHT
BEGIN:STANDARD
TZOFFSETFROM:-0400
TZOFFSETTO:-0500
TZNAME:EST
DTSTART:20261101T060000
END:STANDARD
BEGIN:DAYLIGHT
TZOFFSETFROM:-0500
TZOFFSETTO:-0400
TZNAME:EDT
DTSTART:20270314T070000
END:DAYLIGHT
BEGIN:STANDARD
TZOFFSETFROM:-0400
TZOFFSETTO:-0500
TZNAME:EST
DTSTART:20271107T060000
END:STANDARD
END:VTIMEZONE
BEGIN:VEVENT
DTSTART;TZID=America/New_York:20260430T130000
DTEND;TZID=America/New_York:20260430T170000
DTSTAMP:20260423T204234
CREATED:20260316T144138Z
LAST-MODIFIED:20260316T144138Z
UID:10005288-1777554000-1777568400@dokindworks.org
SUMMARY:Sort and Pack Summer Fun Stuff Donations
DESCRIPTION:Help sort and pack Summer Fun Sacks for children in our area. All donations will be stored\, sorted\, and packed at the Bender Jewish Community Center (6125 Montrose Road). Kindly sign up for the 1pm-3pm shift and/or the 3pm-5pm shift.  \nMore dates to come. Please check back. \nStudent Service Learning\nHigh School Students can earn SSL hours for participation. \nSafety Reminder\nAs with all KindWorks projects\, when you register you do so with the understanding that volunteering may involve physical activity\, the handling of sharp objects and cooking apparatus\, the lifting of heavy objects\, contact with unidentified and unfamiliar persons\, and will require the exercise of reasonable care to avoid injury and/or damage\, and agree to assume any and all risks of personal injury or property damage. \nLearn more about this KindWorks program \n\nSFS Sorting/Packing\n\n\n\n    \n    \n          \n 
URL:https://dokindworks.org/project/sort-and-pack-summer-fun-stuff-donations-19/
LOCATION:Bender JCC\, JCC\, 6125 Montrose Road\, Rockville\, 20852
CATEGORIES:Summer Fun Stuff
ATTACH;FMTTYPE=image/jpeg:https://dokindworks.org/wp-content/uploads/2025/03/SFS.jpeg
GEO:39.0534384;-77.1246265
X-APPLE-STRUCTURED-LOCATION;VALUE=URI;X-ADDRESS=Bender JCC JCC 6125 Montrose Road Rockville 20852;X-APPLE-RADIUS=500;X-TITLE=JCC\, 6125 Montrose Road:geo:-77.1246265,39.0534384
END:VEVENT
END:VCALENDAR