BEGIN:VCALENDAR
VERSION:2.0
PRODID:-//KindWorks - ECPv6.15.20//NONSGML v1.0//EN
CALSCALE:GREGORIAN
METHOD:PUBLISH
X-ORIGINAL-URL:https://dokindworks.org
X-WR-CALDESC:Events for KindWorks
REFRESH-INTERVAL;VALUE=DURATION:PT1H
X-Robots-Tag:noindex
X-PUBLISHED-TTL:PT1H
BEGIN:VTIMEZONE
TZID:America/New_York
BEGIN:DAYLIGHT
TZOFFSETFROM:-0500
TZOFFSETTO:-0400
TZNAME:EDT
DTSTART:20240310T070000
END:DAYLIGHT
BEGIN:STANDARD
TZOFFSETFROM:-0400
TZOFFSETTO:-0500
TZNAME:EST
DTSTART:20241103T060000
END:STANDARD
BEGIN:DAYLIGHT
TZOFFSETFROM:-0500
TZOFFSETTO:-0400
TZNAME:EDT
DTSTART:20250309T070000
END:DAYLIGHT
BEGIN:STANDARD
TZOFFSETFROM:-0400
TZOFFSETTO:-0500
TZNAME:EST
DTSTART:20251102T060000
END:STANDARD
BEGIN:DAYLIGHT
TZOFFSETFROM:-0500
TZOFFSETTO:-0400
TZNAME:EDT
DTSTART:20260308T070000
END:DAYLIGHT
BEGIN:STANDARD
TZOFFSETFROM:-0400
TZOFFSETTO:-0500
TZNAME:EST
DTSTART:20261101T060000
END:STANDARD
END:VTIMEZONE
BEGIN:VEVENT
DTSTART;VALUE=DATE:20251001
DTEND;VALUE=DATE:20251101
DTSTAMP:20260424T101410
CREATED:20250926T130135Z
LAST-MODIFIED:20251024T033108Z
UID:10005138-1759276800-1761955199@dokindworks.org
SUMMARY:Bake Casseroles & Banana Breads for So What Else
DESCRIPTION:Join our team in preparing nutritious and delicious casseroles and/or banana bread for the individuals served by So What Else in Rockville. \nWhen you sign up below\, you are committing to deliver four individual servings of a casserole or banana bread to the center any weekday between 7:00a m-4:00 pm or Saturdays between 5:00am- 3:00pm. You can sign up for additional slots to bring more\, but students seeking SSL hours should note MCPS’s daily limit in the guidelines below. \nOur recipe library has wonderful casserole suggestions\, but you are welcome to deliver any type of nutritious casserole you wish to make. You can substitute zucchini bread or any other healthier type of quick bread in place of banana bread. And if you need of a recipe\, we recommend this one for mini loaves of banana bread. Feel free to customize your breads with chocolate chips\, raisins\, etc. Whatever you make\, be sure to note any allergens in your ingredients on the label (details below). \nHealth and Safety Information\nIn order to protect the quality of your donation and our program\, we ask that volunteers conscientiously observe the following guidelines: \n\nStart with clean hands and wash again frequently as needed throughout the cooking process.\nStart with clean kitchen surfaces and utensils (antibacterial wipes do a great job).\nKeep longer hair tied back.\nFollow other common sense procedures\, such as never returning a tasting spoon to the pot!\n\nThank you for maintaining a high cleanliness standard for your donations! \nHow to Donate Your Meal Servings\nIndividually package up the number of servings you signed up to provide in small food containers with tight-fitting lids. You can buy containers at the grocery store\, or ask your friends and neighbors for their small take-out containers\, and they’ll be thrilled to put their extras to good use! \n\n\n\n\n\n\n\nLabel each container and freeze. (Use this template to print six-per-page KindWorks labels off your own printer.) Labels should include \n\ndate prepared\nyour first name and last initial\ntype of casserole\nany relevant allergy or food preference info\n\n\n\n\nDeliver your frozen meals anytime Monday-Friday between 7:00a m-4:00 pm or Saturdays between 5:00am- 3:00pm\, to So What Else at (4924 Wyaconda Road\, Rockville\, MD). \nStudent Service Learning\nStudents who sign up in advance\, participate in this project\, and submit a completed KindWorks SSL Request Form can earn SSL hours at the following rate: \n\n4 single casserole servings = 2 SSL hours\n4 mini-loaves of quick bread = 2 SSL hours\n\nNote: MCPS allows no more than 8 SSL hours in a 24-hour period. \nSafety Reminder\nAs with all KindWorks projects\, when you register you do so with the understanding that volunteering may involve physical activity\, the handling of sharp objects and cooking apparatus\, the lifting of heavy objects\, contact with unidentified and unfamiliar persons\, and will require the exercise of reasonable care to avoid injury and/or damage\, and agree to assume any and all risks of personal injury or property damage. \nLearn more about this KindWorks program \n\nCasserole & Banana Bread Donations
URL:https://dokindworks.org/project/bake-casseroles-banana-breads-for-nourish-now-2/
LOCATION:So What Else\, 4924 Wyaconda Road\, Rockville\, 20852\, United States
CATEGORIES:Baking for Community,Cooking,Shelter Support
ATTACH;FMTTYPE=image/jpeg:https://dokindworks.org/wp-content/uploads/2022/10/sheri-silver-q5C-_coAZR4-unsplash-scaled.jpg
GEO:39.0437972;-77.0985556
X-APPLE-STRUCTURED-LOCATION;VALUE=URI;X-ADDRESS=So What Else 4924 Wyaconda Road Rockville 20852 United States;X-APPLE-RADIUS=500;X-TITLE=4924 Wyaconda Road:geo:-77.0985556,39.0437972
END:VEVENT
BEGIN:VEVENT
DTSTART;TZID=America/New_York:20251005T170000
DTEND;TZID=America/New_York:20251005T180000
DTSTAMP:20260424T101410
CREATED:20250730T185134Z
LAST-MODIFIED:20251003T175439Z
UID:10005123-1759683600-1759687200@dokindworks.org
SUMMARY:KindSoup for Students - Make Burst Cherry Tomato Orzotto w/Basil\, Arugula and Cannellini Beans to Share With Others
DESCRIPTION:Join us online for KindSoup for Students as we make a Burst Cherry Tomato Orzotto w/Basil\, Arugula and Cannellini Beans (based on based on this recipe from the NYT). \nWe’ve added white beans to this delightful dish to add more protein and make it a one-pot meal!  “Cherry tomatoes are first cooked down with aromatics until they burst and their juices thicken. This concentrated tomato mixture fortifies the broth\, imparting its flavor to the orzo. Stirring every minute or so releases the pasta’s starch\, while a pat of butter makes this dish silky and that much more reminiscent of a saucy risotto. The orzotto is only as good as the tomatoes you use\, so be sure to use the best ones you can get your hands on. Topping each serving with a handful of arugula is a wonderful way to incorporate more greens and add a bit of fresh\, peppery zing.” \nAfter completing your soup\, and sharing some with your family\, freeze and label the rest for donation\, then drop off at one of our participating food assistance providers. \nStudents can earn 1 Student Service Learning Hour for every 2 quarts of frozen soup made with the group and delivered to others.  There is a maximum of 8 quarts that can qualify for any given day (4 hours). Most recipes render at least 6 quarts of soup\, 3 SSL hours.  \nIn order to receive SSL Hours \n\n take a picture during preparation and at delivery\nreport on where you shared your KindSoup \nComplete this SSL Form  \n\nConnect to Zoom event \n\n \n\n\n\n \n\n\nBurst Cherry Tomato Orzotto with Basil\, Arugula and White Beans\nIngredients:  \n\n1/3 cup olive oil \n3 large shallots\, chopped (about a cup)\nSalt \n1 head garlic – grated \n1 tsp crushed red pepper\, to taste\n4 ½pounds cherry tomatoes \n3 cups tightly packed fresh basil leaves\, roughly chopped\, plus 1 sprig \n2 pounds orzo \n4-6 cans (or 1 1/2 lb dry – precooked) cannellini (or other white) beans\n3 quart (12 cups) low-sodium vegetable broth (more as needed)\n2 cups grated Parmesan\, plus more for serving\n3 Tablespoons unsalted butter \n1 lemon\, juiced (more to taste)\nArugula\, optional topping for serving\n\nInstructions\n\n\nHeat the olive oil in a large Dutch oven or heavy-bottomed pot over medium heat. Add the shallots\, some salt and cook\, stirring often\, until the shallot is translucent and fragrant\, 4-5 minutes. Add the garlic and crushed red pepper and cook\, stirring constantly\, until fragrant\, another minute or so more.\nAdd the tomatoes\, basil sprig and 3 cups water and cover the pot. Increase the heat to medium-high and let cook\, covered\, until the tomatoes are very soft and easily burst when pressed with a wooden spoon or spatula\, about 10 minutes.\nUse the back of a wooden spoon or spatula to press the tomatoes against the side of the pot until all the tomatoes are broken down. Adjust the heat as needed to maintain a steady yet gentle boil.\nCover and continue to cook\, stirring occasionally\, until the tomato liquid has thickened\, slightly deepened in color and reduced by about half\,  10-12 minutes. The mixture will go from very brothy to a tomato soup-like texture.\nStir in the orzo\, broth and some salt and bring to a boil over high heat. Lower the heat to maintain a simmer and cook\, stirring every minute or two and making sure to scrape the bottom of the pot to prevent sticking\, until the orzo is tender and saucy\, 10-13 minutes more.  Add the beans and stir it around to be well blended.\nRemove the pot from the heat and discard the basil sprig. Stir in the Parmesan\, butter\, lemon juice and chopped basil until silky and evenly combined. Season to taste with salt as needed. Serve immediately\, topped with fresh arugula and more Parmesan\, as desired.\n\n\nHealth and Safety Information\nIn order to protect the the quality of our KindSoup program\, we ask that volunteers conscientiously observe the following guidelines: \n\nStart with clean hands and wash again frequently as needed throughout the cooking process.\nStart with clean kitchen surfaces and utensils (antibacterial wipes do a great job).\nKeep longer hair tied back.\nFollow other common sense procedures\, such as never returning a tasting spoon to the pot!\n\nThank you for maintaining a high cleanliness standard for our KindSoup donations! \nSTUDENTS:  \nPrior to our Sunday’s cooking session:  \n\nConfirm your participation by signing up at the bottom of this page\nGather your ingredients\nMake sure that you have either a Soup Pot large enough to hold all of this soup\, or two smaller ones that will together hold it all\nHave 6 quart sized plastic soup containers with tight fitting lids (ask your neighbors if you could have theirs rather than them recycling them – they will be thrilled)\n\nHave all of your ingredients and cooking tools out and ready for when you sign on to our zoom at 5pm. (long hair should be tied back\, and everyone should start with freshly washed hands and gloves if you have them) You can start peeling and chopping your veggies while you wait for us to begin. \nEveryone’s first name should identify them on our zoom screen please. \nSee you soon!!\nHow to Donate Your KindSoup\nSeal containers with a tight lid and freeze. Label each container with: date prepared\, your first name and last initial\, “Burst Cherry Tomato Orzotto w/Basil and Cannellini Beans ” and any relevant food allergy info (which we will discuss on the call).  As soon as is convenient\, drop containers of frozen soup off at one of the following participating food assistance providers\, and can give one quart away also to a person or family that is in your heart and/or going through a difficult time.  You will report all KindSoups that you shared – with to the food assistance organization\, or to those people whom you know. \n\n5171 Manning Place NW (in the Palisades neighborhood in DC). \nRainbow Community Development Center 12120 Tech Road\, Silver Spring (this takes you to the rear parking lot and loading dock – there is usually a large RAINBOW truck parked here): Drop-off Monday-Friday 9am-2pm. NOTE: If you go during Rainbow’s food distributions on Tuesdays/Thursdays from 9am-noon\, you may see a long line of cars – you can drive past the cars to drop off your KindSoup. If you go at other times and the garage or back door is not open\, call or text Anna on her personal cell at 301-852-4184 (if she doesn’t answer\, leave a message and she should get back within a few minutes\, or try calling the Rainbow Pantry cellphone: 240-639-2293).   \nSo What Else 4924 Wyaconda Road\, Rockville\, 240-705-4345. (Look for the Dogtopia. Drive straight past Doptopia to get to our parking lot. The entrance will be on the right hand side as you pull into the parking lot. After you park\, walk up to the glass door at the bottom of the black ramp\, ring the doorbell\, let the team know you’ve arrived to drop off KindSoups): Drop-off Tuesday-Friday 10am-4pm and Saturdays 7am-12pm.\nUpcounty Consolidation Hub 12900 Middlebrook Rd.\, Germantown (supporting 1\,000 families with food and other supports). Drop off Tuesdays\, Wednesdays\, or Fridays 8 am-4:30 pm.\nEmbry Rucker Shelter 11975 Bowman Towne Drive\, Reston\, 703-437-1975. Leave donations on the table around the back. Drop off anytime!\n\nHere are some options for donating outside the DC area: \n\nNYC Community Fridges located throughout New York City.\nBread and Roses 58 Newbury St.\, Lawrence\, Mass.\, 978-681-8768. Drop off  Mondays-Thursdays\, 10 am-4 pm.\nThe Bristol Lodge 27 Lexington St.\, Waltham\, Mass.\, 781-893-0108. Drop off  Mondays-Fridays\, 9am-6pm.\nCommunity Refrigerators located in Los Angeles\n\nSee you in the KindSoup kitchen! \nLearn more about this KindWorks program \n\nOnline KindSoup for Students
URL:https://dokindworks.org/project/kindsoup-for-students-make-burst-cherry-tomato-orzotto-w-basil-arugula-and-cannellini-beans-to-share-with-others/
LOCATION:Virtual Gathering\, United States
CATEGORIES:Cooking,Food Assistance,KindSoup
ATTACH;FMTTYPE=image/webp:https://dokindworks.org/wp-content/uploads/2025/07/Tomato-Orzotto-w-Basil-Arugula-and-Cannellini-Beans-e1757518541486.webp
GEO:37.09024;-95.712891
END:VEVENT
END:VCALENDAR