BEGIN:VCALENDAR
VERSION:2.0
PRODID:-//KindWorks - ECPv6.15.20//NONSGML v1.0//EN
CALSCALE:GREGORIAN
METHOD:PUBLISH
X-ORIGINAL-URL:https://dokindworks.org
X-WR-CALDESC:Events for KindWorks
REFRESH-INTERVAL;VALUE=DURATION:PT1H
X-Robots-Tag:noindex
X-PUBLISHED-TTL:PT1H
BEGIN:VTIMEZONE
TZID:America/New_York
BEGIN:DAYLIGHT
TZOFFSETFROM:-0500
TZOFFSETTO:-0400
TZNAME:EDT
DTSTART:20240310T070000
END:DAYLIGHT
BEGIN:STANDARD
TZOFFSETFROM:-0400
TZOFFSETTO:-0500
TZNAME:EST
DTSTART:20241103T060000
END:STANDARD
BEGIN:DAYLIGHT
TZOFFSETFROM:-0500
TZOFFSETTO:-0400
TZNAME:EDT
DTSTART:20250309T070000
END:DAYLIGHT
BEGIN:STANDARD
TZOFFSETFROM:-0400
TZOFFSETTO:-0500
TZNAME:EST
DTSTART:20251102T060000
END:STANDARD
BEGIN:DAYLIGHT
TZOFFSETFROM:-0500
TZOFFSETTO:-0400
TZNAME:EDT
DTSTART:20260308T070000
END:DAYLIGHT
BEGIN:STANDARD
TZOFFSETFROM:-0400
TZOFFSETTO:-0500
TZNAME:EST
DTSTART:20261101T060000
END:STANDARD
END:VTIMEZONE
BEGIN:VEVENT
DTSTART;TZID=America/New_York:20250609T080000
DTEND;TZID=America/New_York:20250625T200000
DTSTAMP:20260425T065535
CREATED:20250609T221737Z
LAST-MODIFIED:20250609T222302Z
UID:10005112-1749456000-1750881600@dokindworks.org
SUMMARY:Home Setup for Ahmadi Family of 5 in Riverdale MD
DESCRIPTION:  \nHelp create a home for a newly resettling Afghan family\, a household of 5\, mom\, dad and 3 children!  Let’s welcome them to our community by turning their mostly empty space into a warm and welcoming home!  Your willingness to jump in and help is truly special and deeply appreciated by this family. \nWe ask that items are dropped off directly with the family as soon as possible by contacting Dad directly by text and arranging to meet them at your earliest convenience.  We hope that you can participate and take advantage this wonderful opportunity to meet the people we serve and to welcome them to our community!  You can also order things to be sent directly to them – you will receive Dad’s name\, contact info and address upon your signing up for things.  (If you do that\, please do let him know what you are sending\, so he can be on the lookout for the package(s).  \nDonation Guidelines\nFurniture must be in very good condition\, with no chips\, tears\, or stains. Other household goods should be new or very gently used. In addition\, all donations must be clean and completely free of pet hair\, cobwebs\, and cigarette smoke. For donated bed linens\, package same-size linens together in a bag or box that is labeled with the bedding size contained therein.  \nPlease ONLY bring those items for which you have signed up unless you have been in touch with Abdullah (the Dad) and received confirmation to bring specific additional items.  The family of 6 will be living in small space (a basement apt)\, so  Less is More!! We appreciate your generosity and your understanding! \nSafety Reminder\nAs with all KindWorks projects\, when you register you do so with the understanding that volunteering may involve physical activity\, the handling of sharp objects and cooking apparatus\, the lifting of heavy objects\, contact with unidentified and unfamiliar persons\, and will require the exercise of reasonable care to avoid injury and/or damage\, and agree to assume any and all risks of personal injury or property damage. \n  \nLearn more about this KindWorks program \n \n\nHome Setup – Ahmadi Family of 5 in Riverdale MD
URL:https://dokindworks.org/project/home-setup-for-ahmadi-family-of-5-in-riverdale-md/
LOCATION:6155 64th Ave Riverdale\, MD 20737\, 64th Avenue\, East Riverdale\, Maryland\, 20737\, United States
CATEGORIES:Home Setups
ATTACH;FMTTYPE=image/jpeg:https://dokindworks.org/wp-content/uploads/2023/09/unnamed.jpg
GEO:38.9631;-76.90597
X-APPLE-STRUCTURED-LOCATION;VALUE=URI;X-ADDRESS=6155 64th Ave Riverdale MD 20737 64th Avenue East Riverdale Maryland 20737 United States;X-APPLE-RADIUS=500;X-TITLE=64th Avenue:geo:-76.90597,38.9631
END:VEVENT
BEGIN:VEVENT
DTSTART;TZID=America/New_York:20250619T120000
DTEND;TZID=America/New_York:20250619T153000
DTSTAMP:20260425T065535
CREATED:20250430T163731Z
LAST-MODIFIED:20250430T163732Z
UID:10004879-1750334400-1750347000@dokindworks.org
SUMMARY:Monthly Giveaway for Refugees and Newcomers
DESCRIPTION:Together\, let’s create a tapestry of hope and support for refugees and newcomers in our community.  \nJoin us for our Monthly Giveaway\, where we come together to share essential items and warm smiles. Held on the third Thursday of each month from 12:00 PM to 3:30 PM at 6155 64th Ave\, Riverdale\, MD 20737\, this event provides toys\, kitchen items\, home supplies\, and clothing to those in need. We invite you to contribute and volunteer in one of three ways: \n\nDrop Off Donations (12:00 PM – 1:30 PM): Simply drop off your donated items at the given address. Whether it’s gently used toys\, kitchen supplies\, or clothing\, every donation makes a difference.\nDonate & Set Up (12:00 PM – 3:00 PM): Bring your items and stay to help us set up and welcome participants. This is a rewarding opportunity to interact with refugees and provide support personally.\nHost & Clean Up (1:00 PM – Until Cleanup is Finished): Join us without donations but lend your time and energy to organize\, host\, and wrap up the giveaway. Your help with cleaning up and making sure everything runs smoothly is invaluable.\n\nNote: If you have time and are interested\, you are welcome to join us from the beginning until the end of the event or just sign up for the Donate & Set Up section. \nSign up below. If you have questions please email mhrangiz.azami@dokindworks.org. We look forward to working together and making a difference! \nDonation Guidelines\nAll donated items should be new or very gently used. In addition\, all donations must be clean and completely free of pet hair\, cobwebs\, and cigarette smoke. For donated bed linens\, package same-size linens together in a bag or box that is labeled with the bedding size contained therein.  \nSafety Reminder\nAs with all KindWorks projects\, when you register you do so with the understanding that volunteering may involve physical activity\, the handling of sharp objects and cooking apparatus\, the lifting of heavy objects\, contact with unidentified and unfamiliar persons\, and will require the exercise of reasonable care to avoid injury and/or damage\, and agree to assume any and all risks of personal injury or property damage. \nLearn more about this KindWorks program \n\nMonthly Giveaway for Refugees and Newcomers\n\n\n\n    \n    \n        Please mention in the comments if you speak Spanish\, Persian\, or Arabic.
URL:https://dokindworks.org/project/template-monthly-giveaway-for-refugees-and-newcomers-4-3/
LOCATION:6155 64th Ave Riverdale\, MD 20737\, 64th Avenue\, East Riverdale\, Maryland\, 20737\, United States
CATEGORIES:Home Setups
ATTACH;FMTTYPE=image/jpeg:https://dokindworks.org/wp-content/uploads/2023/09/unnamed.jpg
GEO:38.9631;-76.90597
X-APPLE-STRUCTURED-LOCATION;VALUE=URI;X-ADDRESS=6155 64th Ave Riverdale MD 20737 64th Avenue East Riverdale Maryland 20737 United States;X-APPLE-RADIUS=500;X-TITLE=64th Avenue:geo:-76.90597,38.9631
END:VEVENT
END:VCALENDAR