BEGIN:VCALENDAR
VERSION:2.0
PRODID:-//KindWorks - ECPv6.15.20//NONSGML v1.0//EN
CALSCALE:GREGORIAN
METHOD:PUBLISH
X-ORIGINAL-URL:https://dokindworks.org
X-WR-CALDESC:Events for KindWorks
REFRESH-INTERVAL;VALUE=DURATION:PT1H
X-Robots-Tag:noindex
X-PUBLISHED-TTL:PT1H
BEGIN:VTIMEZONE
TZID:America/New_York
BEGIN:DAYLIGHT
TZOFFSETFROM:-0500
TZOFFSETTO:-0400
TZNAME:EDT
DTSTART:20240310T070000
END:DAYLIGHT
BEGIN:STANDARD
TZOFFSETFROM:-0400
TZOFFSETTO:-0500
TZNAME:EST
DTSTART:20241103T060000
END:STANDARD
BEGIN:DAYLIGHT
TZOFFSETFROM:-0500
TZOFFSETTO:-0400
TZNAME:EDT
DTSTART:20250309T070000
END:DAYLIGHT
BEGIN:STANDARD
TZOFFSETFROM:-0400
TZOFFSETTO:-0500
TZNAME:EST
DTSTART:20251102T060000
END:STANDARD
BEGIN:DAYLIGHT
TZOFFSETFROM:-0500
TZOFFSETTO:-0400
TZNAME:EDT
DTSTART:20260308T070000
END:DAYLIGHT
BEGIN:STANDARD
TZOFFSETFROM:-0400
TZOFFSETTO:-0500
TZNAME:EST
DTSTART:20261101T060000
END:STANDARD
END:VTIMEZONE
BEGIN:VEVENT
DTSTART;TZID=America/New_York:20250602T170000
DTEND;TZID=America/New_York:20250602T180000
DTSTAMP:20260425T065533
CREATED:20250508T000922Z
LAST-MODIFIED:20250508T000922Z
UID:10005097-1748883600-1748887200@dokindworks.org
SUMMARY:Make White Bean and Asparagus Soup to Share With Others
DESCRIPTION:Join KindChefs Salma and Ami to make a White Bean and Asparagus Soup. After completing your soup\, freeze and label it for donation\, then drop off at one of our participating food assistance providers\, with a person or family that is in your heart\, or anyplace that you prefer\, when convenient. Finally\, report on where you shared your KindSoup and spread the word: Post a picture or two of you and your soups on social media with #DoKindWorks and tag us @DoKindWorks. \nConnect to Zoom event \n\n\nWhite Bean and Asparagus Soup\n\n\n\nIngredients\n\n4-5 pounds asparagus\n6 large potatoes\, peeled and diced\n3 large onions\, chopped\n6 celery ribs\, chopped\n3 medium carrots\, chopped\n2 tablespoons dried parsley flakes\n3 garlic cloves\, minced\n1/3 cup olive oil\n4 quarts vegetable broth\n2 teaspoons salt\n1 1/2 teaspoons pepper\, divided\n3 bay leaves\n4-6 cans of cannellini beans (or 2 lbs dried\, pre-cooked)\n\nInstructions\n\n\nCut asparagus into 1 ½ inch pieces\, and divide in half – reserving all tips and some of the next nicest pieces to add in at the end.\nIn a Dutch oven or soup pot\, saute the potatoes\, onions\, celery\, carrots\, parsley and garlic in oil until vegetables are tender. Stir in the broth\, salt\, 3/4 teaspoon pepper\, and bay leaves. Bring to a boil. Reduce heat; add ½ the beans and ½ the asparagus stalks and simmer\, uncovered\, for 30 minutes. Discard bay leaves.\nCool slightly.\nIn a blender\, cover and puree soup in batches or use an immersion blender\, and blend until smooth. Return to the pot. Add the rest of the beans and asparagus stalks and tips\, and the remaining pepper. Bring to a boil. Reduce heat; simmer\, uncovered\, for 5 minutes or until asparagus is tender.\n\n\n\nHealth and Safety Information\nIn order to protect the the quality of our KindSoup program\, we ask that volunteers conscientiously observe the following guidelines: \n\nStart with clean hands and wash again frequently as needed throughout the cooking process.\nStart with clean kitchen surfaces and utensils (antibacterial wipes do a great job).\nKeep longer hair tied back.\nFollow other common sense procedures\, such as never returning a tasting spoon to the pot!\n\nThank you for maintaining a high cleanliness standard for our KindSoup donations! \nHow to Donate Your KindSoup\nSeal containers with a tight lid and freeze. Label each container with: date prepared\, your first name and last initial\, “White Bean and Asparagus Soup” and any relevant food allergy info. When convenient\, drop containers of frozen soup off at one of the following participating food assistance providers\, with a person or family that is in your heart\, or a place that you prefer. \n\nHere2Help @ Bethesda Presbyterian Church\, 7611 Clarendon Road\, Bethesda. (Go down driveway next to brick house just before the church on Clarendon and look for coolers labeled for soup donations). Drop off Sundays\, 10 am-12 noon.\nRainbow Community Development Center 12120 Tech Road\, Silver Spring (this takes you to the rear parking lot and loading dock – there is usually a large RAINBOW truck parked here): Drop-off Monday-Friday 9am-2pm. NOTE: If you go during Rainbow’s food distributions on Tuesdays/Thursdays from 9am-noon\, you may see a long line of cars – you can drive past the cars to drop off your KindSoup. If you go at other times and the garage or back door is not open\, call or text Anna on her personal cell at 301-852-4184 (if she doesn’t answer\, leave a message and she should get back within a few minutes\, or try calling the Rainbow Pantry cellphone: 240-639-2293)\nSo What Else 4924 Wyaconda Road\, Rockville\, 240-705-4345. (Look for the Dogtopia. Drive straight past Doptopia to get to our parking lot. The entrance will be on the right hand side as you pull into the parking lot. After you park\, walk up to the glass door at the bottom of the black ramp\, ring the doorbell\, let the team know you’ve arrived to drop off KindSoups): Drop-off Tuesday-Friday 10am-4pm and Saturdays 7am-12pm.\nUpcounty Consolidation Hub 12900 Middlebrook Rd.\, Germantown (supporting 1\,000 families with food and other supports). Drop off Tuesdays\, Wednesdays\, or Fridays 8 am-4:30 pm.\nEmbry Rucker Shelter 11975 Bowman Towne Drive\, Reston\, 703-437-1975. Leave donations on the table around the back. Drop off anytime!\n\nHere are some options for donating outside the DC area: \n\nNYC Community Fridges located throughout New York City.\nBread and Roses 58 Newbury St.\, Lawrence\, Mass.\, 978-681-8768. Drop off  Mondays-Thursdays\, 10 am-4 pm.\nThe Bristol Lodge 27 Lexington St.\, Waltham\, Mass.\, 781-893-0108. Drop off  Mondays-Fridays\, 9am-6pm.\nCommunity Refrigerators located in Los Angeles\n\nSee you in the KindSoup kitchen! \nLearn more about this KindWorks program \n 
URL:https://dokindworks.org/project/make-white-bean-and-asparagus-soup-to-share-with-others/
LOCATION:Virtual Gathering\, United States
CATEGORIES:Cooking,Food Assistance,KindSoup
ATTACH;FMTTYPE=image/webp:https://dokindworks.org/wp-content/uploads/2025/05/AsparagusSoup2-819x1024-1-e1746662952286.webp
GEO:37.09024;-95.712891
END:VEVENT
END:VCALENDAR